BEGIN:VCALENDAR
VERSION:2.0
PRODID:-//Hof van Moeder Aarde - ECPv6.15.15//NONSGML v1.0//EN
CALSCALE:GREGORIAN
METHOD:PUBLISH
X-WR-CALNAME:Hof van Moeder Aarde
X-ORIGINAL-URL:https://www.hofvanmoederaarde.nl
X-WR-CALDESC:Evenementen voor Hof van Moeder Aarde
REFRESH-INTERVAL;VALUE=DURATION:PT1H
X-Robots-Tag:noindex
X-PUBLISHED-TTL:PT1H
BEGIN:VTIMEZONE
TZID:UTC
BEGIN:STANDARD
TZOFFSETFROM:+0000
TZOFFSETTO:+0000
TZNAME:UTC
DTSTART:20220101T000000
END:STANDARD
END:VTIMEZONE
BEGIN:VEVENT
DTSTART;TZID=UTC:20230120T170000
DTEND;TZID=UTC:20230122T170000
DTSTAMP:20260417T234946
CREATED:20220830T150957Z
LAST-MODIFIED:20220830T155622Z
UID:55003-1674234000-1674406800@www.hofvanmoederaarde.nl
SUMMARY:Weekend Mannelijke en Vrouwelijke Energie
DESCRIPTION:We leven in een duale wereld en een manier om daar inzicht in te krijgen is een verdeling tussen mannelijke en vrouwelijke energie. Deze indeling kan jou ook helpen om meer inzicht te krijgen in je zelf en hoe jij in de wereld staat. In dit weekend gaan we dieper in op wat mannelijk en vrouwelijk is voor jou en hoe je deze energieën kunt gebruiken in je leven.\nOok gaan we kennis maken met je innerlijke man en innerlijke vrouw. Hoe zien ze er uit\, wat zijn hun kwaliteiten en komen die genoeg naar buiten. Kennen ze elkaar en hoe is hun communicatie?\nKortom een weekend om jezelf nog meer te ontdekken en dichter bij je essentie te komen. \nDe begeleiding doet Joke Houwers. Zij wordt geassisteerd door Wilma Gerritse die ook alle maaltijden zal coördineren. De maaltijden zijn biologisch en vegetarisch.\nWil je weten wat ik nog meer doe kijk dan ook op www.vreugdevolzijn.nl. \nVrijdag vanaf 17.00 uur ben je welkom\, er staat dan soep en brood klaar. Vrijdagavond om 19.30 uur beginnen we met het programma.  \nDe kosten zijn €395\,-\, dit is inclusief de overnachtingen\, alle maaltijden\, koffie/thee en deelname aan de lessen.
URL:https://www.hofvanmoederaarde.nl/workshop/weekend-mannelijke-en-vrouwelijke-energie/
LOCATION:Groepsaccommodatie Jade
ORGANIZER;CN="Joke Houwers":MAILTO:joke@hofvanmoederaarde.nl
END:VEVENT
END:VCALENDAR