BEGIN:VCALENDAR
VERSION:2.0
PRODID:-//Hof van Moeder Aarde - ECPv6.15.15//NONSGML v1.0//EN
CALSCALE:GREGORIAN
METHOD:PUBLISH
X-ORIGINAL-URL:https://www.hofvanmoederaarde.nl
X-WR-CALDESC:Evenementen voor Hof van Moeder Aarde
REFRESH-INTERVAL;VALUE=DURATION:PT1H
X-Robots-Tag:noindex
X-PUBLISHED-TTL:PT1H
BEGIN:VTIMEZONE
TZID:UTC
BEGIN:STANDARD
TZOFFSETFROM:+0000
TZOFFSETTO:+0000
TZNAME:UTC
DTSTART:20210101T000000
END:STANDARD
END:VTIMEZONE
BEGIN:VEVENT
DTSTART;VALUE=DATE:20221211
DTEND;VALUE=DATE:20221212
DTSTAMP:20260420T045053
CREATED:20221122T143937Z
LAST-MODIFIED:20221209T163402Z
UID:55162-1670716800-1670803199@www.hofvanmoederaarde.nl
SUMMARY:Nachttrein Podium 'Op naar het Licht'\, zondagmiddag 11 december 2022 GAAT HELAAS NIET DOOR VANWEGE ZIEKTE GASTMUZIKANT
DESCRIPTION:Nachttrein Podium in de Amethist\, zondagmiddag 11 december 2022 \n‘Op naar het Licht’ \nHoffelijke Vrienden\, \nZondagmiddag 11 december is er wederom een Nachttrein Podium\,                                                                                                                  in de beweging richting de ‘donkere dagen’ en kerst \nNu met als thema: \n‘Op naar het Licht’  \n \nOok de Nachttrein rijdt altijd weer vanuit de donkere tunnel naar het Licht \nLaten we het Licht alvast toezingen en uitnodigen.                                                                                                                                             Wat betekend Licht voor jou? Waar zit jouw Licht in? Welk Licht gun jij jezelf en de wereld?                                                                             Dat gaan we onderzoeken. Belichten. Bespelen. Bezingen. Bedansen. \n \nWees welkom in een sfeervol verlichte Amethist \nMet als speciale gast wederom: \nJan Pieter van der Giessen\, Sopraan sax/\, De Setar (Perzische Luit )/De Ney (Bamboe fluit) \nwww.navamusic.nl \nWij zijn beide geïnspireerd door wereldmuziek en geraakt door Poëzie van de dichters Rumi en Hafez vanuit het Soefisme. \nWeet jezelf welkom en neem je eigen ‘Licht’ mee \nDe trein gaat stipt om 15.00 uur rijden vanaf perron Amethist op Hof van Moeder Aarde \nReserveren via marcel@hofvanmoederaarde.nl.  info: 06 52155048. www.marcelverheugd.nl                                                                                                      Vrijwillige bijdrage\, richtbedrag 10\,- \n  \nWarme groet                                                                                                                                                                                                      Marcel & Jan Pieter \n  \nUit ‘Morde Boedam’ van Rumi \nIk was dood en ik kwam tot leven.\nIk was een en al verdriet en werd een glimlach. \nDe koning van de liefde kwam\nen ik werd de eeuwige koning. \nHij zag dat ik voldaan was                                                                                                                                                                                                                             dat mijn ziel dapper was. \nMijn moed is een leeuw                                                                                                                                                                                                                                     ik ging stralen van moed. \n(Vanuit het beroemde ‘Masnawi’ boek van Rumi)
URL:https://www.hofvanmoederaarde.nl/workshop/nachttrein-podium-op-naar-het-licht-zondagmiddag-11-december-2022/
LOCATION:Workshopruimte Amethist\, Hof van Moeder Aarde
ATTACH;FMTTYPE=image/jpeg:https://www.hofvanmoederaarde.nl/wp-content/uploads/2022/11/0239BF0A-6D52-48BA-923C-9D82AADC1167.jpeg
ORGANIZER;CN="Marcel Verheugd":MAILTO:marcel@hofvanmoederaarde.nl
END:VEVENT
BEGIN:VEVENT
DTSTART;TZID=UTC:20221219T193000
DTEND;TZID=UTC:20221223T120000
DTSTAMP:20260420T045053
CREATED:20210924T202019Z
LAST-MODIFIED:20220126T181341Z
UID:49503-1671478200-1671796800@www.hofvanmoederaarde.nl
SUMMARY:Drie Donkere Dagen - midwinter retraite
DESCRIPTION:Midwinter\, een prachtige tijd om terug te reflecteren op het afgelopen jaar\, stil te gaan staan en stil te worden. De tijd dat de dagen het kortst zijn en de nachten het langst. De tijd van diep contact met ons innerlijke vuur en dat te koesteren en vooral niet hoog te laten oplaaien. \nDe Drie Donkere Dagen zijn meer dan een stilte retraite. We gaan deze dagen namelijk letterlijk het donker in. Met een blinddoek om die na de openingsavond 3 dagen niet meer af gaat\, met alle liefdevolle begeleiding die daarbij nodig is met dit tijdelijk uitschakelen van jouw zicht. \nWe zullen werken natuurlijk zoals altijd in een sacred space. Waarin je veilig kunt terug vallen op geur\, smaak\, tast en gehoor. Met zinnestrelend eten\, trance dans\, zingen\, sounden\, het Godinnen Paradijs\, diverse soorten rustgevende meditaties\, deelcirkels\, daverende stilte en alles wat ook nodig in het moment wat wij uit onze goedgevulde rugzak kunnen toveren. \nBegeleiding\nDrie Donkere Dagen worden begeleid door Joyce Hellendoorn en Arjan Verschuur en maakt deel uit van een serie van 8 verdiepende workshops\, die zowel qua planning als qua thematiek aansluiten bij de jaartraining Het Pad van de Wilde Ziel. \nPraktische details\nWe beginnen maandag 19 december in de avond met de kennismakingscirkel en eindigen vrijdagochtend 23 december met de laatste deelcirkel. \nDe kosten voor deelname bedragen €333 voor de workshop plus €222 voor accommodatie en biologische verwenmaaltijden. Totaal dus €555 voor jouw midwinter retraite. Deelnemers aan de jaartraining “Het Pad van de Wilde Ziel” krijgen € 48\,40 korting op deze verdiepende workshop. \nMeer informatie en aanmelden\nVoor meer informatie en aanmelden neem je per email contact op met arjan@hofvanmoederaarde.nl.
URL:https://www.hofvanmoederaarde.nl/workshop/drie-donkere-dagen-midwinter-retraite/
LOCATION:Groepsaccommodatie Jade
ATTACH;FMTTYPE=image/png:https://www.hofvanmoederaarde.nl/wp-content/uploads/2021/09/image-1.png
ORGANIZER;CN="Joyce Hellendoorn":MAILTO:joyce@voicemedicine.nl
END:VEVENT
END:VCALENDAR