BEGIN:VCALENDAR
VERSION:2.0
PRODID:-//Hof van Moeder Aarde - ECPv6.15.15//NONSGML v1.0//EN
CALSCALE:GREGORIAN
METHOD:PUBLISH
X-WR-CALNAME:Hof van Moeder Aarde
X-ORIGINAL-URL:https://www.hofvanmoederaarde.nl
X-WR-CALDESC:Evenementen voor Hof van Moeder Aarde
REFRESH-INTERVAL;VALUE=DURATION:PT1H
X-Robots-Tag:noindex
X-PUBLISHED-TTL:PT1H
BEGIN:VTIMEZONE
TZID:UTC
BEGIN:STANDARD
TZOFFSETFROM:+0000
TZOFFSETTO:+0000
TZNAME:UTC
DTSTART:20210101T000000
END:STANDARD
END:VTIMEZONE
BEGIN:VEVENT
DTSTART;VALUE=DATE:20220813
DTEND;VALUE=DATE:20220814
DTSTAMP:20260420T113235
CREATED:20220810T151614Z
LAST-MODIFIED:20220810T151614Z
UID:54957-1660348800-1660435199@www.hofvanmoederaarde.nl
SUMMARY:Voorstelling "De Naakte Waarheid" zaterdag 13 augustus
DESCRIPTION:Beste mensen\, \n\nHierbij een mogelijkheid tot het bijwonen van een bijzondere voorstelling op Hof van Moeder Aarde\n\nTevens is er een extra mogelijkheid ontstaan om vanaf vrijdag Eco Huis De Vlinder te huren voor een week of midweek/weekend.\n 2 zomerse vliegen in 1 klap wellicht.\nOok in het najaar is er nog plek om deze bijzondere woning te huren en Hof van Moeder Aarde te ontdekken\nWees welkom\nWarme groet\nMarcel Verheugd\nwww.hofvanmoederaarde.nl\n\n\n\n\n  \n\n\n\n\n\n\n\n\n\n\n\n\n\n\n\n\n\n\n\n\n\n\n\n\n\n\n\n\n\n\n\n\n\n\n\n\n\n\n\n\n\n\n\n\n\n\n\n\n\n\n\n\n\n\n\n\n\n\n\n\n\n\n\n\n\n\n\n\n\n\n\n\n\n\n\n\n\n\nOpnieuw de naakte waarheid. Echt waar!\n\n\n\n\n\n\n\n\n\n\n\n\n\n\n\n\n\n\n\n\n\n\n\n\n\n\n\n\n\n\n\n\n\n\n\n\n\n\n\n\n\n\n\n\n\n\n\n\n\n\n\n\n\n\n\n\n\n\n\n\n\n\n\n\n\n\n\n\n\n\n\n\n\n\n\n\n\n\n\n\n\n\n\n\n\n\n\n\n\n\n\n\n\n\n\n\n\n\nDE NAAKTE WAARHEIDVolop zomer en de kans op openluchtvoorstellingen. Daar maken wij graag gebruik van en doen dat deze keer in Neede op het Hof van Moeder Aarde. Onze voorstelling is gebaseerd op een oude legende over de waarheid en de leugen. Wij verdiepen ons als onderzoekers in de verschillende vormen van waarheden en komen daarbij tot de conclusie\, dat de naakte waarheid er toch anders uitziet dan je van tevoren had gedacht.“Als hedendaagse hofnarren houden Rina en Wolfram ons een spiegel voor. Op milde wijze laten ze zien waar wij collectief van het rechte pad raken en steken ze ons een hart onder de riem met rake beelden\, vindingrijke teksten\, olijke en soms weemoedige liedjes. En niet te vergeten: ze herinneren ons aan zowel de ernst als de lichtheid van het bestaan. Gaat dat zien! “  (Steef Athmer)\n\n\n\n\n\n\n\n\n\n\n\n\n\n\n\n\n\n\n\n\n\n\n\n\n\n\n\n\n\n\n\n\n\n\n\n\n\n\n\n\n\n\n\nZaterdag 13 augustus om 19:30 uur Bliksteeg 1  in Neede.Entree: €15\,-/ kinderen €5\,- incl. drankjesMeld je aan via   info@hedengesloten.nl
URL:https://www.hofvanmoederaarde.nl/workshop/voorstelling-de-naakte-waarheid-zaterdag-13-augustus/
END:VEVENT
BEGIN:VEVENT
DTSTART;VALUE=DATE:20220831
DTEND;VALUE=DATE:20220901
DTSTAMP:20260420T113235
CREATED:20220827T104911Z
LAST-MODIFIED:20220827T104911Z
UID:54985-1661904000-1661990399@www.hofvanmoederaarde.nl
SUMMARY:Nachttrein Podium in het Amfitheater op Hof van Moeder Aarde\, woensdagavond 31 aug\, ‘Perzische Mystiek reizend met Rumi’
DESCRIPTION:Nachttrein Podium in het Amfitheater op Hof van Moeder Aarde\, woensdagavond 31 augustus 2022 \n  \n \n\nHoffelijke Vrienden\, \nKomend woensdagavond weer een Nachttrein Podium\, buiten in het Amfitheater op het Hof \nNu met als thema: \n‘Perzische Mystiek reizend met Rumi’  \n \nDeze schoonheid gaan we uitnodigen in de Nachttrein naar Lissabon \nIn ‘De Herberg’ van Rumi kunnen we al onze ‘gasten’ verwelkomen om ze mee te nemen naar het Licht in een eindeloze rondedans van de Derwisj. \nAls speciale gast komende woensdag: \nJan Pieter van der Giessen\, Sopraan sax/Perzische Luit\, de Setar/Bamboe fluit/diverse percussie \n\nwww.navamusic.nl \nWij zijn beide geïnspireerd door wereldmuziek en diep geraakt door Poëzie van de dichters Rumi en Hafez vanuit het Soefisme. \nDe Derwisj dans zal ook een plaats hebben in deze reis. In deze transcenderende dans kunnen we hemel en aarde verbinden…… \nDus Neem allen je meest passende draaibare kleding mee. \n\n\nWeet jezelf welkom als je deze dans niet wilt ontspringen \nDe trein gaat stipt om 20.00 uur rijden vanaf perron Amfitheater Hof van Moeder Aarde…. \nWees op tijd want…vol is vol \n Reserveren via marcel@hofvanmoederaarde.nl.  info: 06 52155048. \nVrijwillige bijdrage\, richtbedrag 10\,- \nWarme groet \nMarcel & Jan Pieter
URL:https://www.hofvanmoederaarde.nl/workshop/nachttrein-podium-in-het-amfitheater-op-hof-van-moeder-aarde-woensdagavond-31-aug-perzische-mystiek-reizend-met-rumi/
ATTACH;FMTTYPE=image/jpeg:https://www.hofvanmoederaarde.nl/wp-content/uploads/2022/08/marcel-verheugd_tegenlicht.jpg
ORGANIZER;CN="Marcel Verheugd":MAILTO:marcel@hofvanmoederaarde.nl
END:VEVENT
BEGIN:VEVENT
DTSTART;VALUE=DATE:20220831
DTEND;VALUE=DATE:20220901
DTSTAMP:20260420T113235
CREATED:20220827T105305Z
LAST-MODIFIED:20220827T105305Z
UID:54991-1661904000-1661990399@www.hofvanmoederaarde.nl
SUMMARY:Nachttrein Podium in het Amfitheater op Hof van Moeder Aarde\, woensdagavond 31 aug\, ‘Perzische Mystiek reizend met Rumi’
DESCRIPTION:Nachttrein Podium in het Amfitheater op Hof van Moeder Aarde\, woensdagavond 31 augustus 2022 \n  \n\n\nHoffelijke Vrienden\, \n\nKomend woensdagavond weer een Nachttrein Podium\, buiten in het Amfitheater op het Hof \nNu met als thema: \n‘Perzische Mystiek reizend met Rumi’  \n \nDeze schoonheid gaan we uitnodigen in de Nachttrein naar Lissabon \nIn ‘De Herberg’ van Rumi kunnen we al onze ‘gasten’ verwelkomen om ze mee te nemen naar het Licht in een eindeloze rondedans van de Derwisj. \nAls speciale gast komende woensdag: \nJan Pieter van der Giessen\, Sopraan sax/Perzische Luit\, de Setar/Bamboe fluit/diverse percussie \n\nwww.navamusic.nl \nWij zijn beide geïnspireerd door wereldmuziek en diep geraakt door Poëzie van de dichters Rumi en Hafez vanuit het Soefisme. \n\nDe Derwisj dans zal ook een plaats hebben in deze reis. In deze transcenderende dans kunnen we hemel en aarde verbinden……                                               Dus Neem allen je meest passende draaibare kleding mee. \n\n\n\nWeet jezelf welkom als je deze dans niet wilt ontspringen \nDe trein gaat stipt om 20.00 uur rijden vanaf perron Amfitheater Hof van Moeder Aarde…. \nWees op tijd want…vol is vol \n Reserveren via marcel@hofvanmoederaarde.nl.  info: 06 52155048. \nVrijwillige bijdrage\, richtbedrag 10\,- \nWarme groet \nMarcel & Jan Pieter
URL:https://www.hofvanmoederaarde.nl/workshop/nachttrein-podium-in-het-amfitheater-op-hof-van-moeder-aarde-woensdagavond-31-aug-perzische-mystiek-reizend-met-rumi-2/
ORGANIZER;CN="Marcel Verheugd":MAILTO:marcel@hofvanmoederaarde.nl
END:VEVENT
END:VCALENDAR