BEGIN:VCALENDAR
VERSION:2.0
PRODID:-//Hof van Moeder Aarde - ECPv6.15.15//NONSGML v1.0//EN
CALSCALE:GREGORIAN
METHOD:PUBLISH
X-ORIGINAL-URL:https://www.hofvanmoederaarde.nl
X-WR-CALDESC:Evenementen voor Hof van Moeder Aarde
REFRESH-INTERVAL;VALUE=DURATION:PT1H
X-Robots-Tag:noindex
X-PUBLISHED-TTL:PT1H
BEGIN:VTIMEZONE
TZID:UTC
BEGIN:STANDARD
TZOFFSETFROM:+0000
TZOFFSETTO:+0000
TZNAME:UTC
DTSTART:20210101T000000
END:STANDARD
END:VTIMEZONE
BEGIN:VEVENT
DTSTART;TZID=UTC:20220709T180000
DTEND;TZID=UTC:20220716T230000
DTSTAMP:20260417T235240
CREATED:20220508T111608Z
LAST-MODIFIED:20220626T115624Z
UID:54728-1657389600-1658012400@www.hofvanmoederaarde.nl
SUMMARY:Triskal Festival
DESCRIPTION:Excuses voor het ongemak! Er zat een foute link in de nieuwsbrief. \nKlik hier om naar de website van het Triskal Festival te gaan. \n 
URL:https://www.hofvanmoederaarde.nl/workshop/triskal-festival/
LOCATION:Hof van Moeder Aarde
ORGANIZER;CN="Arjan Verschuur":MAILTO:info@arjanverschuur.nl
END:VEVENT
BEGIN:VEVENT
DTSTART;TZID=UTC:20220718T200000
DTEND;TZID=UTC:20220724T120000
DTSTAMP:20260417T235240
CREATED:20190418T200222Z
LAST-MODIFIED:20220329T072344Z
UID:1738-1658174400-1658664000@www.hofvanmoederaarde.nl
SUMMARY:Expression into Freedom - Zomerweek
DESCRIPTION:Onder de titel “Expression into Freedom” organiseren Joyce Hellendoorn en Arjan Verschuur van maandag 18 t/m zondag 24 juli 2021 weer een bevrijdende zomerweek. Een week om gelijkgestemden te ontmoeten\, spelenderwijs vrijer te worden in het gebruik van je stem en door middel van je stem oude patronen los te laten. \nOp maandag 18 juli beginnen we ’s avonds met een check-in. Van dinsdag t/m zaterdag geven we iedere ochtend een mini-workshop van 3 uur. Daarbij laten we je onder andere kennis maken met oefeningen uit de Soul Voice(r)-methode\, stem-opstellingen\, Roma-liederen\, zangimprovisatie d.m.v. cirkelsongs\, de creatieve kracht van het woord en therapeutic acting. ’s Middags ben je vrij om je eigen gang te gaan. Bijvoorbeeld in het zwembad of in de bossen in de omgeving. Aan het begin van de avond ontmoeten we elkaar weer bij de gezamenlijke warme maaltijd. Aansluitend nodigen we je uit om nog 1 a 1\,5 uur – actief of passief – te genieten van samenzang\, een klank-concert\, intuitieve klank en beweging\, klank-massage en een bonte avond. We sluiten de week op zondag 24 juli ‘ s morgens af met een laatste sharing circle. Het wordt – kortom – een week vol ‘good vibrations’. \nOver de begeleiders van deze zomerweek. Joyce en Arjan zijn allebei zeer ervaren zangers\, sound-healers\, stem-therapeuten en workshopgevers. Joyce zingt bij las Sirenas de la Loba en heeft een passie voor het verzinnen en zingen van 2e en 3e stemmen. Rond de eeuwwisseling ontdekte ze de helende kracht van haar stem\, leerde boventonen zingen\, maakte kennis met de kracht van zang en emoties bij Ida Kelarova en werd door Karina Schelde opgeleid tot Soul Voice® Practitioner en Teacher. Daarnaast is ze een pionier op het gebied van vrouwenwerk in Nederland (Strip je Vrij\, De Stem van de Godin\, Lorelei VrouwenFestival). In de training The Call of The Wild Woman combineert ze haar ervaring met stemwerk en vrouwenwerk. Arjan zong jarenlang bij a capella band Dames en Heren\, schreef en zong Nederlandstalige luisterliedjes\, maakte 2 CD’s met muziektheatergroep Van Lotje en 1 solo CD waarmee hij 2011 het Utrechts Kleinkunst Festival won. Naast Soul Voice® Practitioner is hij begeleider van familieopstellingen en een pionier op het gebied van mannenwerk in Nederland (Wildeman Festival). Ze werken en wonen samen met hun nog thuiswonende kinderen op Hof van Moeder Aarde\, waar ze mede initiatiefnemer van zijn. \nLokatie. Tijdens deze zomerweek verblijven we in groepsaccommodatie Jade en werken we in workshopruimte Amethist. \nAantal deelnemers. We werken met een groep van maximaal 12 deelnemers\, zodat we voldoende aandacht kunnen geven aan ieders persoonlijke proces. \nFeedback van eerdere deelnemers. \n“Zelden heb ik mij ergens zo welkom gevoeld. Wat een fijne plek\, ontspannen sfeer en lieve mensen.” \n“Dit is niet zomaar een weekje workshops doen. Het gaat veel verder. Je wordt onder gedompeld in een warm bad van nieuwe indrukken. Met veel ruimte voor persoonlijke aandacht.” \n“Ik heb kennis kunnen maken met diverse werkvormen waarbij de stem de hoofdrol had. Persoonlijk vond ik het (meerstemmig) samen zingen het allermooist en mijn eerste ervaring met boventonen zingen smaakt naar meer. Het schrijven en laten horen van een eigen liedje en de feedback in de vorm van een vervolgopdracht maakte een persoonlijke zoektocht\, waar ik toch wat mee worstel\, ineens kraakhelder. Dankbaar hiervoor. Ik vond een stukje van mezelf terug dat al veel te lang in winterslaap was.” \n“De fijne sfeer binnen de groep zorgde ervoor dat iedereen stappen durfde te zetten die soms best spannend waren.” \n“De combinatie van gezamelijke activiteiten en de middag voor jezelf was erg prettig. Ik heb lekker gezwommen\, gefietst en geluierd. Iedere dag werd rond zes uur een heerlijke driegangen maaltijd geserveerd. Met liefde bereid en dat kon je proeven.”  \n\n\nInvestering: € 300\,00 voor deelname aan de mini-workshops en het avond-programma + € 87\,50 voor 5 warme biologische maaltijden + € 90 (voor een bed op een 2-persoonskamer) of € 150 (voor een bed op een 1-persoonskamer; max. 3 beschikbaar) + € 8\,75 toeristenbelasting voor je verblijf in groepsaccommodatie Jade. Je zorgt zelf voor je ontbijt en lunch. In onderling overleg kun je daar samen met de andere deelnemers van genieten. \nResoneert dit bij je? Meld je dan aan voor deze heerlijke zomerweek door een email te sturen naar arjan@hofvanmoederaarde.nl.
URL:https://www.hofvanmoederaarde.nl/workshop/expression-into-freedom-zomerweek/
LOCATION:Workshopruimte Amethist\, Hof van Moeder Aarde
ATTACH;FMTTYPE=image/jpeg:https://www.hofvanmoederaarde.nl/wp-content/uploads/2019/04/arjan-en-joyce-trampoline.jpg
ORGANIZER;CN="Arjan Verschuur":MAILTO:info@arjanverschuur.nl
END:VEVENT
BEGIN:VEVENT
DTSTART;TZID=UTC:20220723T123000
DTEND;TZID=UTC:20220723T183000
DTSTAMP:20260417T235240
CREATED:20220708T071231Z
LAST-MODIFIED:20220708T071533Z
UID:54921-1658579400-1658601000@www.hofvanmoederaarde.nl
SUMMARY:Cacao Ceremonie op 23 Juli 2022\, Hof van Moeder Aarde
DESCRIPTION:CACAO CEREMONIE een krachtig retreat voor Hart en Ziel \n“Kracht van Kwetsbaarheid in Eenzaamheid” \nTijdens onze Cacao Ceremonies stap je in een hart-openend\, verbindend en veilig veld\, zodat jij volledig met je aandacht\nbij jouw eigen proces kunt zijn. Door afwisselend te werken met voelen\, ervaren en daar expressie aan te geven\, kunnen persoonlijke vraagstukken in beweging komen en hun natuurlijke beloop vinden. \nWe hechten groot belang aan integratie van deze ervaringen. Daarom werken we in Sacred Space. Hierin nodigen we spirithelpers uit die ieder deelnemer zullen ondersteunen om datgene te laten gebeuren wat jij mag ontvangen. Ook zorgen we voor voldoende rust en reflectiemomenten\, zodat je na de ceremonie goed gegrond\, met een helder kompas jouw weg weer kunt vervolgen. \n“De magie van het ontvangen is ongrijpbaar” \nMarcel brengt hierbij zijn ervaring in als muzikant en levensdanser\, op een pad van steeds meer verfijnde sensitiviteit en moeiteloos meesterschap naar vreugdevolle extase. \nStefanie brengt\, als hoedster van de aarde\, haar sjamanistische skills in en haar levenservaring als vrouw en moeder. \n  \n\n\n\n\nPraktische info: \nDatum: zondag 31 oktober 2021 \nPlaats: Hof van Moeder Aarde. Plek zal te zijner tijd aangegeven worden \nTijd: 12:30 u inloop. 13:00 u aanvang ceremonie \nTijdsduur: los van de tijdloosheid zullen we rond 18.30 u willen afronden met een gezamenlijke pot luck en sharing \nBijdrage: wij vragen als introductieprijs 65\,- incl de cacao \nMax. aantal deelnemers is 15 personen. \nVragen? Mail of bel naar: marcel@hofvanmoederaarde.nl Tel: 06 52155048 \n                                   stefanie@hofvanmoederaare.nl       Tel: 06 15673124
URL:https://www.hofvanmoederaarde.nl/workshop/cacao-ceremonie-op-23-juli-2022-hof-van-moeder-aarde/
LOCATION:Hof van Moeder Aarde
ORGANIZER;CN="Marcel Verheugd":MAILTO:marcel@hofvanmoederaarde.nl
END:VEVENT
BEGIN:VEVENT
DTSTART;VALUE=DATE:20220729
DTEND;VALUE=DATE:20220730
DTSTAMP:20260417T235240
CREATED:20220708T185635Z
LAST-MODIFIED:20220708T185635Z
UID:54932-1659052800-1659139199@www.hofvanmoederaarde.nl
SUMMARY:HA!MAN Spontane Muziek uit Zuid-Afrika...
DESCRIPTION:
URL:https://www.hofvanmoederaarde.nl/workshop/haman-spontane-muziek-uit-zuid-afrika-2/
END:VEVENT
END:VCALENDAR