BEGIN:VCALENDAR
VERSION:2.0
PRODID:-//Hof van Moeder Aarde - ECPv6.15.15//NONSGML v1.0//EN
CALSCALE:GREGORIAN
METHOD:PUBLISH
X-WR-CALNAME:Hof van Moeder Aarde
X-ORIGINAL-URL:https://www.hofvanmoederaarde.nl
X-WR-CALDESC:Evenementen voor Hof van Moeder Aarde
REFRESH-INTERVAL;VALUE=DURATION:PT1H
X-Robots-Tag:noindex
X-PUBLISHED-TTL:PT1H
BEGIN:VTIMEZONE
TZID:UTC
BEGIN:STANDARD
TZOFFSETFROM:+0000
TZOFFSETTO:+0000
TZNAME:UTC
DTSTART:20210101T000000
END:STANDARD
END:VTIMEZONE
BEGIN:VEVENT
DTSTART;TZID=UTC:20220505T180000
DTEND;TZID=UTC:20220508T170000
DTSTAMP:20260420T163932
CREATED:20220411T154347Z
LAST-MODIFIED:20220411T154445Z
UID:54682-1651773600-1652029200@www.hofvanmoederaarde.nl
SUMMARY:Het Innerlijk Huwelijk van Wildeman en Wilde Vrouw
DESCRIPTION:Een leuke en leerzame workshop. Met humor en diepgang. \nHet archetype van de Wildeman en het archetype van de Wilde Vrouw staan symbool voor die delen van ons zelf die we onbewust onderdrukt of buitengesloten hebben en/of talenten die we tot op dit moment in ons leven nog niet nodig hebben gehad. Dit kunnen delen van ons zelf zijn die in ons persoonlijk onbewuste leven\, maar ook delen van ons zelf die afkomstig zijn uit het collectieve onbewuste. \nDoor ons bewust te worden van deze onbewuste delen van onszelf en ze als deel van ons zelf te accepteren en waarderen\, worden we een heler mens. In de symbooltaal van het verhaal van De Wildeman of IJzerhans wordt dit bewustwordingsproces omschreven als “het woud in gaan\, de poel leeg scheppen en terugkeren met de wildeman”. Aansluitend bij het verhaal van De Kikkerkoning of IJzeren Hendrik kunnen we dit ook “het kussen van onze kikkers” noemen. En dat is wat we tijdens deze training gaan doen ;-). \nTrouw zijn aan jezelf \nDeze training gaat in essentie over over trouw zijn aan jezelf. Door alle beperkende overtuigingen over wat je als man of vrouw zou moeten hebben\, doen of zijn om een “echte man” of “echte vrouw” te zijn\, los te laten\, ontstaat er steeds meer ruimte om als man of vrouw echt\, authentiek ofwel gewoon jezelf te zijn. \nEen veilige bedding \nHet Innerlijk Huwelijk van Wildeman en Wilde Vrouw is een driedaagse training. In deze training werken we in de veilige bedding van een sjamanistische sacred space. Daarbij werken we afwisselend met alle deelnemers gezamenlijk en met mannen en vrouwen apart. \nTijdens deze training maken we o.a. gebruik van oefeningen uit de Soul Voice®-methode en familie- en systeemopstellingen om jou en alle andere deelnemers op de avontuurlijke reis door het onbewuste te begeleiden. Daarnaast werken we met luistercirkels\, rituelen\, vrije dansexpressie\, therapeutic acting en de Wildeman Krachtdans. Dit is – een op nadrukkelijk verzoek van Moari-teachers – op de Haka van de Maori geïnspireerde krachtdans van eigen bodem. \nDeskundige begeleiding \nDeze training wordt gegeven door Joyce Hellendoorn en Arjan Verschuur. We hebben allebei meer dan 20 jaar ervaring in het geven van trainingen gericht op persoonlijke ontwikkeling en in mannenwerk en vrouwenwerk. \nJoyce volgde rond de eeuwwisseling diverse vrouwenworkshops\, begeleide jarenlang vrouwencirkels\, schreef het boek De Stem van de Godin\, was co-trainer en co-auteur van de training en het boek Strip je Vrij\, initieerde het Lorelei Vrouwenfestival en werkt tegenwoordig o.a. als Soul Voice® Practitioner en Soul Voice ® Teacher. Meer informatie over Joyce vind je op haar persoonlijke website: www.voicemedicine.nl. \nArjan heeft rond de eeuwwisseling diverse mannentrainingen gevolgd\, jarenlang mannencirkels begeleid\, het Wildeman Festival en de Mannenhart Community geïnitieerd en is momenteel o.a. werkzaam als Soul Voice® Practitioner en als begeleider en trainer in het begeleiden van familieopstellingen. Meer informatie over Arjan vind je op zijn persoonlijke website: www.arjanverschuur.nl. \nPraktische details \nAantal deelnemers? Aan deze eerste editie kunnen maximaal 16 mensen deelnemen. De training gaat door met minimaal 6 deelnemers\, waarvan 3 mannen en 3 vrouwen. \nInvestering. Deze 3-daagse training vraagt een investering van 3 dagen (van donderdagavond t/m zondagmiddag) en € 450. Van dit bedrag is € 180 voor verblijf en eten (inclusief 9% BTW) en € 270 voor deelname aan de training (inclusief 21% BTW).
URL:https://www.hofvanmoederaarde.nl/workshop/het-innerlijk-huwelijk-van-wildeman-en-wilde-vrouw/
LOCATION:Groepsaccommodatie Jade
ATTACH;FMTTYPE=image/jpeg:https://www.hofvanmoederaarde.nl/wp-content/uploads/2022/04/inner-marriage.jpeg
ORGANIZER;CN="Arjan Verschuur":MAILTO:info@arjanverschuur.nl
END:VEVENT
BEGIN:VEVENT
DTSTART;TZID=UTC:20220524T080000
DTEND;TZID=UTC:20220524T170000
DTSTAMP:20260420T163932
CREATED:20220524T132528Z
LAST-MODIFIED:20220524T132555Z
UID:54769-1653379200-1653411600@www.hofvanmoederaarde.nl
SUMMARY:Hof van moeder aarde is op zoek naar vrijwillige bezige bijtjes en duizendpoten!
DESCRIPTION:  \n  \nHof van moeder aarde is op zoek naar vrijwillige bezige bijtjes en duizendpoten! \n\nDe hof van moeder aarde is een leefgemeenschap en coöperatieve camping tussen de weilanden in Neede (Gelderland). Een coöperatieve camping… dat is best bijzonder!\nHet idee is dat iedereen die op de camping komt een bijdrage levert aan het geheel.\nOm dit prachtige Hof nog mooier te maken zijn wij op zoek naar vrijwilligers die deze plek positieve aandacht kunnen geven. Hierbij kan je denken aan werken in de moestuin\, \n \nbijvullen van de winkel\, het onderhouden van de kampeervelden\, hier en daar wat schoonmaakklussen en een likje verf. Heel afwisselend dus en geen dag is hetzelfde. Naast deze dingen is er ook ruimte voor jouw talenten en om jouw talenten te ontdekken. \n \nHet werk doe je soms alleen of met andere vrijwilligers\, met een vast team op donderdag en mensen die af en toe langskomen.\nEr natuurlijk ook veel tijd om een duik te nemen in het zwembad\, het bos op te zoeken\, kampvuurtje te maken of samen muziek te maken. \n \n\nAls je op het Hof van Moeder Aarde vrijwilligerswerk komt doen is dat voor minimaal \n1 maand en zal dat 15 uur per week zijn wat je zelf mag indelen (in overleg). In ruil hiervoor kan je gratis op het terrein verblijven\, wel vragen we om zelf een tentje mee te nemen. Je verblijft rond om de moestuin waar je ook gebruik kan maken van het vrijwilligershuisje “ De Toermalijn”. \n \nIn de Toermalijn kan je koken\, er is een koelkast en lekker uitrusten natuurlijk. \n  \n\nVan 9 t/m 16 juli organiseren we hier op De Hof Het Triskal Festival. Voor deze periode zoeken we nog vrijwilligers om hierin mee te dragen. Zie ook: www.triskalfestival.nl \nAls je hier blij van wordt en zin hebt om het Hof te helpen kan je een mail sturen naar Marcel Verheugd: marcel@hofvanmoederaarde.nl\nWil je iets meer informatie? Kijk dan even op de site: www.hofvanmoederaarde.nl\nHet is fijn om langs te komen op een klusdag zodat je een goed beeld hebt van de plek en wij van jou. Ook dan kan je een mail sturen naar Marcel Verheugd. \nWij hopen tot ziens! \n \n  \n  \n  \n  \n  \n  \n  \n  \n  \n  \n  \n  \n  \n  \n  \n 
URL:https://www.hofvanmoederaarde.nl/workshop/hof-van-moeder-aarde-is-op-zoek-naar-vrijwillige-bezige-bijtjes-en-duizendpoten/
END:VEVENT
END:VCALENDAR