BEGIN:VCALENDAR
VERSION:2.0
PRODID:-//Hof van Moeder Aarde - ECPv6.15.15//NONSGML v1.0//EN
CALSCALE:GREGORIAN
METHOD:PUBLISH
X-ORIGINAL-URL:https://www.hofvanmoederaarde.nl
X-WR-CALDESC:Evenementen voor Hof van Moeder Aarde
REFRESH-INTERVAL;VALUE=DURATION:PT1H
X-Robots-Tag:noindex
X-PUBLISHED-TTL:PT1H
BEGIN:VTIMEZONE
TZID:UTC
BEGIN:STANDARD
TZOFFSETFROM:+0000
TZOFFSETTO:+0000
TZNAME:UTC
DTSTART:20210101T000000
END:STANDARD
END:VTIMEZONE
BEGIN:VTIMEZONE
TZID:Europe/Amsterdam
BEGIN:DAYLIGHT
TZOFFSETFROM:+0100
TZOFFSETTO:+0200
TZNAME:CEST
DTSTART:20210328T010000
END:DAYLIGHT
BEGIN:STANDARD
TZOFFSETFROM:+0200
TZOFFSETTO:+0100
TZNAME:CET
DTSTART:20211031T010000
END:STANDARD
BEGIN:DAYLIGHT
TZOFFSETFROM:+0100
TZOFFSETTO:+0200
TZNAME:CEST
DTSTART:20220327T010000
END:DAYLIGHT
BEGIN:STANDARD
TZOFFSETFROM:+0200
TZOFFSETTO:+0100
TZNAME:CET
DTSTART:20221030T010000
END:STANDARD
BEGIN:DAYLIGHT
TZOFFSETFROM:+0100
TZOFFSETTO:+0200
TZNAME:CEST
DTSTART:20230326T010000
END:DAYLIGHT
BEGIN:STANDARD
TZOFFSETFROM:+0200
TZOFFSETTO:+0100
TZNAME:CET
DTSTART:20231029T010000
END:STANDARD
END:VTIMEZONE
BEGIN:VEVENT
DTSTART;TZID=UTC:20220219T100000
DTEND;TZID=UTC:20220219T200000
DTSTAMP:20260420T212808
CREATED:20180223T112438Z
LAST-MODIFIED:20220206T143740Z
UID:208-1645264800-1645300800@www.hofvanmoederaarde.nl
SUMMARY:Zweethut voor vrouwen
DESCRIPTION:Ik\, Joyce\, ken Zaza al best lang\, nog uit de tijd dat we samen in de Romeinse tempel op Archeon werkten en vervolgens in de muziektheater groep Omnia. Ook heb ik samen met Zaza veel volle maan cirkels voor vrouwen gegeven in ons toenmalige Wyrd Sisters atelier in de oude Sojabfabriek in Utrecht. Dus het voelt echt wel als een cadeautje na zoveel jaren weer iets samen te doen. En zoals we toen ook altijd samen een thema bespraken zo hebben we dat natuurlijk nu ook gedaan maar nu 25 jaar wijzer 🙂 \nZaza werkt met de kracht van de bomen\, de dryaden. Deze maan is dat de energie van de Els\, overigens in overvloed aanwezig op ons zweethut veldje. De Els staat voor de dood\, de dryade van de Els is profetisch en beschermend. Deze sweatlodge gaat je helpen te luisteren naar de boodschappen die je voorouders en het grote mysterie je brengen. De Els is altijd beschouwd als een beschermende boom\, en wordt geassocieerd met de elfenwereld. Hij werd niet gekapt omdat men vertelde dat de elfenkoning er in woonde. De boom is klein maar heeft verborgen krachten. ln de verhalen wordt hij neergezet als een vechter. Hij helpt je om uitdagingen en nieuwe situaties aan te kunnen. De Els wordt geassocieerd met vuur (mannelijk) en water (vrouwelijk). De boom maakt ons bewust van beide kanten: stilte en actie en helpt je deze kwaliteiten in harmonie te brengen. \nIn mijn boek De Stem van de Godin\, leven volgens de maancyclus heerst de Godin Artemis over de maan van februari. Artemis is de onafhankelijke vrouw\, een krijgster\, een heldin. Welk avontuur ga je aan\, welke stappen ga je nemen? Wat moet je nog reinigen in jezelf zodat je je vuur we kunt aanwakkeren. Of misschien hoe kun je je vuur weer aanwakkeren zodat je weer kan stromen en in beweging gaat komen. Wat is er nodig?\nFebruari is nog zo’n heerlijk stille maand terwijl er al heel veel belofte aan nieuw leven is. Als braakliggende grond die rust totdat het tijd is voor het zaad om te ontkiemen. Waar ga je je zaden komende maand planten? Wat is je droom\, je verlangen? Welke stap wil je nemen\, waar heb je momenteel moed en durf voor nodig? \nHopelijk een boel vragen en thema’s voor jou om even op door te mijmeren.\nWe zien je graag om je helpen jezelf te bekrachtigen in het aangaan van je nieuwe avontuur en alle hulp\, reiniging en inspiratie te ontvangen die daarvoor nodig zijn. \nLiefs Zaza en Joyce \nProgramma\nStart 10.00 tot 18.00 uur daarna een gezamenlijke potluck. \nBegeleiding\nJoyce Hellendoorn en Zaza van Koningsbrugge \nAantal deelnemers en investering\nAan deze zweethut-ceremonie kunnen maximaal 14 vrouwen deelnemen.De ceremonie gaat door bij minimaal 6 deelneemsters. \nDeelname vraagt een investering van 1 dag\, € 80 inclusief 21% BTW en jouw unieke bijdrage aan de potluck maaltijd na afloop van de zweethut-ceremonie. Voor koffie en thee wordt door ons gezorgd. Neem zelf eventueel een lichte snack mee om iets te kunnen eten voordat we de zweethut in gaan. \nMogelijkheid om te overnachten € 25\,- (zelf je beddengoed meenemen) \nDatum en plaats\nZaterdag 19 februari 2022 op Hof van Moeder Aarde te Neede. \nMeer informatie & aanmelden\nWil je graag meer informatie of je aanmelden? Neem dan s.v.p. per email contact op met Joyce Hellendoorn via joyce@hofvanmoederaarde.nl.
URL:https://www.hofvanmoederaarde.nl/workshop/zweethutceremonie/
LOCATION:Veld van Verandering\, Hof van Moeder Aarde
ATTACH;FMTTYPE=image/jpeg:https://www.hofvanmoederaarde.nl/wp-content/uploads/2018/02/veld-van-verandering-met-tipi-en-zweethut.jpg
ORGANIZER;CN="Joyce Hellendoorn":MAILTO:joyce@voicemedicine.nl
END:VEVENT
BEGIN:VEVENT
DTSTART;TZID=Europe/Amsterdam:20220226T123000
DTEND;TZID=Europe/Amsterdam:20220226T123000
DTSTAMP:20260420T212808
CREATED:20220221T151254Z
LAST-MODIFIED:20220221T151254Z
UID:54580-1645878600-1645878600@www.hofvanmoederaarde.nl
SUMMARY:Cacao Ceremonie “De moed van het niet-weten” op 26 februari 2022\, Hof van Moeder Aarde
DESCRIPTION:Cacao Ceremonie “De moed van het niet-weten” op 26 februari 2022\, Hof van Moeder Aarde \n\n\n\n\n\nLieve mensen\, \nOp zaterdag 26 februari begeleiden wij\, Marcel en Stefanie\, een Cacao Ceremonie die niet zomaar uit de lucht kwam vallen. Eerder liet het thema zich gemakkelijk ontdekken en sprongen we daar handig op in. Nu niet. We zwoegden en schuurden\, maar het kwam er niet. Totdat we de moed voelden om het thema überhaupt even helemaal los te laten. Toen was het er weer: het stroomde! Het gevoel van bedding was er weer\, het gevoel van creativiteit en vrijheid\, van magie. Een veld waarin we anderen kunnen uitnodigen met ons mee op ontdekkingsreis te gaan. Waarheen? Wij noemen het\, “het veld van het niet-weten”. En daar is moed voor nodig! \nTijdens deze Ceremonie laten we Moeder Cacao diep op ons inwerken en openen we ons hart in het veld van het niet-weten. We proberen de overgave te vinden om authentiek te zijn. Wat gaat er nu werkelijk om in jouw hart? Waar zit jouw echte JA\, en waar zit jouw overduidelijke NEE!? Geborgen en gedragen in sacred space krijg je alle ruimte dit te onderzoeken. \n\n\n \n\n\nPraktische info: \nDatum: Zaterdag 26 februari 2022\nPlaats: Hof van Moeder Aarde\nBegintijd: 12:30u inloop\, 13:00u aanvang ceremonie\nEindtijd: 18:30u afronding met een gezamenlijke potluck en sharing\nBijdrage:  65\,- incl de cacao\nAantal deelnemers:Max. 6 * \n\n\n*je kunt op de wachtlijst worden gezet\, als we een ruimere locatie vinden\, kun je er bij zijn! \n\n\n\n\nVragen? Mail\, bel of app: marcel@hofvanmoederaarde.nl Tel: 06 52155048 stefaniekraanen@gmail.com Tel: 06 15673124 \n\n\n\n\nOverige details: \n\n●  Eet in aanvang naar de ceremonie licht voedsel. Vlak voor aanvang zo min mogelijk.\n●  Draag makkelijk zittende kleding waar je goed in kunt bewegen en zitten op een kussen.\n●  Zorg ook voor genoeg warmte met extra warme sokken/sloffen een bontje en/of dekentje.\n●  Graag meenemen een lekkere vegetarische maaltijd om te delen. Liefst biologisch en vegetarisch of veganistisch. Voedsel wat niet te zwaar op de maag ligt.\n●  Een notitie-/kleurboek met pen en kleurtjes.\nHet heilige plant medicijn \nWe zullen de 100% pure cacao uit Guatemala toewijden in deze ceremonie.\nDeze komt uit de jungle\, groeiend in een uitgebalanceerde permacultuur. \nOp verantwoorde wijze geteeld en verwerkt door ingewijde sjamanen. \nWeet je welkom!\nWe zien jullie graag op zaterdag 26 februari 2022\n\n\n\n \n\n\nMarcel Verheugd Stefanie Kraanen \n\n\n \n\n\nOver Marcel Verheugd \nMarcel is naast zijn roeping in de muziek\, de akoestische gitaar\, dans ook geroepen door de cacao. Deze hart-openende helende plant geeft hem nog meer verdieping in de sensitiviteit waar zijn hart zo ligt. In rituele sfeer wil hij deze ervaring en kennis naar innerlijke vrijheid graag delen. \nOver Stefanie Kraanen \nStefanie Kraanen is gepassioneerd Sjamanistisch (ritueel)begeleider\, space holder \nen rouwvrouw.
URL:https://www.hofvanmoederaarde.nl/workshop/cacao-ceremonie-de-moed-van-het-niet-weten-op-26-februari-2022-hof-van-moeder-aarde/
LOCATION:Workshopruimte Amethist\, Hof van Moeder Aarde
ORGANIZER;CN="Marcel Verheugd":MAILTO:marcel@hofvanmoederaarde.nl
END:VEVENT
END:VCALENDAR