BEGIN:VCALENDAR
VERSION:2.0
PRODID:-//Hof van Moeder Aarde - ECPv6.15.15//NONSGML v1.0//EN
CALSCALE:GREGORIAN
METHOD:PUBLISH
X-ORIGINAL-URL:https://www.hofvanmoederaarde.nl
X-WR-CALDESC:Evenementen voor Hof van Moeder Aarde
REFRESH-INTERVAL;VALUE=DURATION:PT1H
X-Robots-Tag:noindex
X-PUBLISHED-TTL:PT1H
BEGIN:VTIMEZONE
TZID:UTC
BEGIN:STANDARD
TZOFFSETFROM:+0000
TZOFFSETTO:+0000
TZNAME:UTC
DTSTART:20210101T000000
END:STANDARD
END:VTIMEZONE
BEGIN:VEVENT
DTSTART;TZID=UTC:20220123T003000
DTEND;TZID=UTC:20220123T003000
DTSTAMP:20260417T235253
CREATED:20220119T184557Z
LAST-MODIFIED:20220119T184753Z
UID:53181-1642897800-1642897800@www.hofvanmoederaarde.nl
SUMMARY:Cacao Ceremonie ‘Herbinden’ op 23 januari 2022\, Hof van Moeder Aarde
DESCRIPTION:Cacao Ceremonie ‘Herbinden’ op 23 januari 2022\, Hof van Moeder Aarde \n\n\n\n\nCacao is Hart-openend Helend Heel gezond\, herbindend\, veilig en…… \nHeilig \n\n\n\n \n\n\n\n\n\n\nLieve mensen\, \nOp zondag 23 januari faciliteer ik opnieuw een Cacao Ceremonie. Nu met als thema \n\n\n\n\n\n\n\n\n‘Herbinden’. Deze keer niet met mijn Cacao-partner Stefanie maar met nieuw ‘Aspirant bestuurslid’ van Hof van Moeder Aarde Carianne Keus. Zij zal assisteren en ook wat van haar zelf inbrengen op gebied van lichaamswerk en focussen. \nDe term ‘Herbinden’ kwam bij mij langs en liet mij niet meer los. Ik ben er zelfs een lied over aan het schrijven. Uit ervaringen in mijn eigen leven zie ik veelvuldig een pad van diep loslaten van vertrouwde verbintenissen. Hierop volgend een transformatie periode. En dan weer opnieuw verbinden. Herbinden dus. Met jezelf. Je partner. Je kinderen. De plek waar je woont. Je familie. Vrienden\, de wereld om je heen……. Maar nu geïntegreerd met een nieuw bewustzijn en diepere verankering in je ware Zelf. We zullen dit gegeven samen gaan onderzoeken in een veilig veld met wat zich aandient. In delen\, muziek\, dansen\, \n\n\n\n\n\n\n\n\nlichaamswerk\, Focussen\, meditatie en wat onze inspiratie en de Cacao ons nog meer brengt \nHerbinden doe je het best met een open hart. Daarom worden we vergezeld door onze reisgenoot Moeder Cacao. Zij en wij\, Marcel en Carianne\, zullen een bedding creëren om veilig te zakken in een liefdevol veld. Waar alles mag zijn wat zich aandient en waar transformatie mag plaatsvinden waar mogelijk. \n\n\n\n\n\n\n\n\n\n\n\n\n\n\nPraktische info: \n\n\n\n\nDatum: Zondag 23 januari\nPlaats: Hof van Moeder Aarde\nBegintijd: 12:30u inloop\, 13:00u aanvang ceremonie\nEindtijd: 18:30u afronding met een gezamenlijke potluck en sharing Bijdrage: 65\,- incl de cacao\nAantal deelnemers: Max. 6 tot 8 \nVragen? Mail\, bel of app: marcel@hofvanmoederaarde.nl Tel: 06 52155048 \n\n\n\n\n\n  \n\n\nOverige details: \n\n\n\n\n\n\n\n\n\n● Eet in aanvang naar de ceremonie licht voedsel. Vlak voor aanvang zo min mogelijk. Draag makkelijk zittende kleding waar je goed in kunt bewegen en zitten op een kussen. \n● Zorg ook voor genoeg warmte met extra warme sokken/sloffen een bontje en/of dekentje. \n● Graag meenemen een lekkere vegetarische maaltijd om te delen. Liefst biologisch en vegetarisch of veganistisch. \n● Een notitie-/kleurboek met pen en kleurtjes. \n\n\n\n\n\nHet heilige plant medicijn \n\n\n\n\n\n\n\n\nWe zullen de 100% pure cacao uit Guatemala toewijden in deze ceremonie. Deze komt uit de jungle\, groeiend in een uitgebalanceerde perma-cultuur. \nOp verantwoorde wijze geteeld en verwerkt door ingewijde sjamanen. \n\n\n\n\n\n \n\n\nWeet je welkom!\nWe zien jullie graag op zondag 23 januari Marcel Verheugd en Carianne Keus \n\n\n\n\n\n\n\n\n\n\nOver Marcel Verheugd \n\n\n\n\n\nMarcel is naast zijn roeping in de muziek\, de akoestische gitaar\, dans ook geroepen door de cacao. Deze hart-openende helende plant geeft hem nog meer verdieping in de sensitiviteit waar zijn hart zo ligt. In rituele sfeer wil hij deze ervaring en kennis naar innerlijke vrijheid graag delen. \nOver Carianne Keus \n\n\n \n\n\n\nCarianne geeft met haar natuurlijkheid en rust bedding aan innerlijke beweging die leidt tot meer zielsverbinding.\nFocussen en lichaamswerk in de vorm van energetische massage en dans zijn voor haar mogelijkheden waarlangs je je innerlijke zelf kunt ont- moeten.
URL:https://www.hofvanmoederaarde.nl/workshop/cacao-ceremonie-herbinden-op-23-januari-2022-hof-van-moeder-aarde/
LOCATION:Workshopruimte Amethist\, Hof van Moeder Aarde
END:VEVENT
END:VCALENDAR