BEGIN:VCALENDAR
VERSION:2.0
PRODID:-//Hof van Moeder Aarde - ECPv6.15.15//NONSGML v1.0//EN
CALSCALE:GREGORIAN
METHOD:PUBLISH
X-WR-CALNAME:Hof van Moeder Aarde
X-ORIGINAL-URL:https://www.hofvanmoederaarde.nl
X-WR-CALDESC:Evenementen voor Hof van Moeder Aarde
REFRESH-INTERVAL;VALUE=DURATION:PT1H
X-Robots-Tag:noindex
X-PUBLISHED-TTL:PT1H
BEGIN:VTIMEZONE
TZID:UTC
BEGIN:STANDARD
TZOFFSETFROM:+0000
TZOFFSETTO:+0000
TZNAME:UTC
DTSTART:20200101T000000
END:STANDARD
END:VTIMEZONE
BEGIN:VEVENT
DTSTART;TZID=UTC:20211218T123000
DTEND;TZID=UTC:20211218T183000
DTSTAMP:20260417T234855
CREATED:20211206T190722Z
LAST-MODIFIED:20211206T190910Z
UID:52473-1639830600-1639852200@www.hofvanmoederaarde.nl
SUMMARY:Cacao Ceremonie 'Draken verstaan'
DESCRIPTION:Op zaterdag 18 december vindt de Cacao Ceremonie ‘Draken verstaan’ plaats. Deze is inmiddels vol\, maarrrr… elke maand kun je meedoen! We zullen je via deze site en Facebook (volg: Stefanie Kraanen) op de hoogte houden van de nieuwe data. Mocht je op locatie een Cacao ceremonie willen organiseren dan kan dat ook. Stuur Marcel Verheugd of Stefanie Kraanen dan een mailtje of een PB via Facebook voor meer info en aanmelden. Zie onderaan dit bericht voor de mailadressen.\n \nOver de Draken ceremonie\nDeze donkere periode van het jaarwiel is de perfecte tijd om schaduwzaken in jezelf te belichten. Het veld van donker en duister\, van angst en verdeeldheid wordt op dit moment extra gevoed door de wereld om ons heen. Het is niet eenvoudig om je hierin staande te houden en in verbinding te blijven met jouw eigen licht en dat van de ander.’Draken verstaan’ geeft handvatten hoe hiermee om te gaan en hoe jouw licht te versterken. We gaan deze machtige en oeroude wezens niet met zwaard en sabel verslaan; we gaan juist luisteren naar hun wijze gefluister\, met ze dansen en de verborgen drakenboodschappen die schuilgaan achter de sluier van illusie\, met een open hart ontvangen. We gaan in verbinding met onze draken \nDraken versta je het best met een open hart. Daarom worden we vergezeld door onze reisgenoot Moeder Cacao. Zij en wij – Marcel en Stefanie – zullen een bedding creëren om veilig te zakken in een liefdevol veld. Waar alles mag zijn wat zich aandient en waar transformatie mag plaatsvinden waar mogelijk. Sacred work! \nMarcel Verheugd: marcel@hofvanmoederaarde.nl\nStefanie Kraanen: stefanie@gmail.com
URL:https://www.hofvanmoederaarde.nl/workshop/cacao-ceremonie-draken-verstaan/
LOCATION:La Cantina\, Hof van Moeder Aarde
ATTACH;FMTTYPE=image/jpeg:https://www.hofvanmoederaarde.nl/wp-content/uploads/2021/12/drakenoog.jpg
ORGANIZER;CN="Marcel Verheugd":MAILTO:marcel@hofvanmoederaarde.nl
END:VEVENT
END:VCALENDAR