BEGIN:VCALENDAR
VERSION:2.0
PRODID:-//Hof van Moeder Aarde - ECPv6.15.15//NONSGML v1.0//EN
CALSCALE:GREGORIAN
METHOD:PUBLISH
X-WR-CALNAME:Hof van Moeder Aarde
X-ORIGINAL-URL:https://www.hofvanmoederaarde.nl
X-WR-CALDESC:Evenementen voor Hof van Moeder Aarde
REFRESH-INTERVAL;VALUE=DURATION:PT1H
X-Robots-Tag:noindex
X-PUBLISHED-TTL:PT1H
BEGIN:VTIMEZONE
TZID:UTC
BEGIN:STANDARD
TZOFFSETFROM:+0000
TZOFFSETTO:+0000
TZNAME:UTC
DTSTART:20200101T000000
END:STANDARD
END:VTIMEZONE
BEGIN:VEVENT
DTSTART;TZID=UTC:20211015T160000
DTEND;TZID=UTC:20211017T160000
DTSTAMP:20260421T043422
CREATED:20180713T083421Z
LAST-MODIFIED:20210615T115800Z
UID:1115-1634313600-1634486400@www.hofvanmoederaarde.nl
SUMMARY:Mannenhart Vader Zoon Weekend
DESCRIPTION:Een weekend voor zonen van 7 tot 13 jaar en hun vaders. \nIn dit weekend gaan we samen op avontuur in de Achterhoekse natuur. Trekken door bossen en velden. Ervaren de elementen. Verzamelen eetbare planten. Vinden sporen van dieren. Sprokkelen\, zagen en hakken zelf ons hout. Koken op houtvuur. Bakken stokbroodjes. Slapen in tentjes. Spelen en stoeien met elkaar. Koesteren de relatie met onze zonen. En delen onze ervaringen als vader. \nNa afloop zijn jullie een gedeelde ervaring rijker\, heeft je zoon ervaren hoe het is om een weekend lang in een groep mannen te zijn en heb jij nieuwe inspiratie opgedaan in je rol als vader. \nAanvang en einde: vanaf vrijdag 15 oktober 16:00 uur zijn jullie welkom. Het inhoudelijke programma start om 19:30 uur. Op zondag 17 oktober om uiterlijk 16:00 uur nemen we afscheid van elkaar. \nInvestering: € 325 per vader en zoon. Voor elke extra zoon die meekomt betaal je € 99 extra. \nLokatie: Hof van Moeder Aarde te Neede (Achterhoek). \nBegeleiding: Ronald Snel\, Jelle Hainje\, Marc Steen en Arjan Verschuur \nVoor meer informatie en aanmelden stuur je een email naar Ronald Snel.
URL:https://www.hofvanmoederaarde.nl/workshop/vader-zoon-weekend/
LOCATION:Thujaveld
ATTACH;FMTTYPE=image/jpeg:https://www.hofvanmoederaarde.nl/wp-content/uploads/2018/07/IMG_5872.jpg
ORGANIZER;CN="Ronald Snel":MAILTO:ronald@mannenhart.nu
END:VEVENT
BEGIN:VEVENT
DTSTART;TZID=UTC:20211031T123000
DTEND;TZID=UTC:20211031T183000
DTSTAMP:20260421T043422
CREATED:20211023T122458Z
LAST-MODIFIED:20211024T123352Z
UID:51642-1635683400-1635705000@www.hofvanmoederaarde.nl
SUMMARY:Cacao Ceremonie tijdens Allerzielen
DESCRIPTION:Allerzielen is een prachtig moment om voorouders en overleden dierbaren te eren en los te laten wat in deze relatie nog speelt om verder te kunnen stromen in het leven. \nDe sluier tussen deze en gene zijde is flinterdun rond deze periode en daarom erg uitnodigend om met elkaar in contact te treden. Sleutelwoorden zijn liefde\, vergeving\, doorvoelen\, rouwen\, loslaten en… vieren! Cacao is onze liefdevolle bondgenoot om deze verdieping in jezelf te maken. Samen met deze hart-openende energie verwelkomen we onze helpers\, gidsen\, engelen en overleden dierbaren om in sacred space een stukje rouwproces aan te gaan. Je hoeft hier geen ervaring mee te hebben. \nMarcel en Stefanie openen deze heilige ruimte\, bewaken deze en zorgen voor de juiste sfeer met muziek\, toewijding en persoonlijke aandacht\, voor een veilige bedding\, om te laten gebeuren wat wil stromen in dit veld op dat moment. Omdat we met het voorouderveld werken\, is jouw innerlijk werk op voorhand al een eerbetoon aan jouw voorouders\, kinderen en kleinkinderen. Sacred work! \nMeer info: \nMarcel@hofvanmoederaarde.nl   Tel: 0652155048\nStefanie@hofvanmoederaarde.nl Tel: 0615673124
URL:https://www.hofvanmoederaarde.nl/workshop/cacao-ceremonie-tijdens-allerzielen/
LOCATION:La Cantina\, Hof van Moeder Aarde
ATTACH;FMTTYPE=image/png:https://www.hofvanmoederaarde.nl/wp-content/uploads/2021/10/mayancacaopeelingguatemala-c9f6775f-1920w-1.png
ORGANIZER;CN="Stefanie Kraanen":MAILTO:stefanie@hofvanmoederaarde.nl
END:VEVENT
END:VCALENDAR