BEGIN:VCALENDAR
VERSION:2.0
PRODID:-//Hof van Moeder Aarde - ECPv6.15.15//NONSGML v1.0//EN
CALSCALE:GREGORIAN
METHOD:PUBLISH
X-WR-CALNAME:Hof van Moeder Aarde
X-ORIGINAL-URL:https://www.hofvanmoederaarde.nl
X-WR-CALDESC:Evenementen voor Hof van Moeder Aarde
REFRESH-INTERVAL;VALUE=DURATION:PT1H
X-Robots-Tag:noindex
X-PUBLISHED-TTL:PT1H
BEGIN:VTIMEZONE
TZID:UTC
BEGIN:STANDARD
TZOFFSETFROM:+0000
TZOFFSETTO:+0000
TZNAME:UTC
DTSTART:20180101T000000
END:STANDARD
END:VTIMEZONE
BEGIN:VEVENT
DTSTART;TZID=UTC:20190201T160000
DTEND;TZID=UTC:20190203T160000
DTSTAMP:20260423T080557
CREATED:20180713T084151Z
LAST-MODIFIED:20180717T080333Z
UID:1119-1549036800-1549209600@www.hofvanmoederaarde.nl
SUMMARY:Wildeman Tools voor MannenCirkels (Open Space Conferentie)
DESCRIPTION:Begeleid jij een MannenCirkel? Of wil je zelf een MannenCirkel starten? Dan is dit weekend voor jou bedoeld! \nMet minimaal 8 en maximaal 16 mannen wisselen we een weekend lang ervaringen en werkvormen uit om jouw MannenCirkel (nog meer) tot bloei te laten komen. Dat doen we in de vorm van een open space conferentie. Na afloop ga je een ervaring rijker en met een koffer vol nieuwe ideeen en inspiratie naar huis. \nAanvang en einde: vanaf vrijdag 1 februari 16:00 uur ben je welkom. Het inhoudelijke programma start om 19:30 uur. Op zondag 3 februari om uiterlijk 16:00 uur ronden we af. \nLokatie: Groepsaccommodatie Jade en workshopruimte Amethist op Hof van Moeder Aarde in Neede (Achterhoek). \nVoor meer informatie en aanmelden stuur je een email naar Arjan Verschuur.
URL:https://www.hofvanmoederaarde.nl/workshop/wildeman-tools-voor-mannencirkels-open-space-conferentie/
LOCATION:Groepsaccommodatie Jade
ATTACH;FMTTYPE=image/jpeg:https://www.hofvanmoederaarde.nl/wp-content/uploads/2018/07/IMG_6338.jpg
ORGANIZER;CN="Arjan Verschuur":MAILTO:info@arjanverschuur.nl
END:VEVENT
BEGIN:VEVENT
DTSTART;VALUE=DATE:20190209
DTEND;VALUE=DATE:20190210
DTSTAMP:20260423T080557
CREATED:20190206T123704Z
LAST-MODIFIED:20190206T124400Z
UID:1582-1549670400-1549756799@www.hofvanmoederaarde.nl
SUMMARY:Klusdag met Dansavond
DESCRIPTION:Zaterdag 9 februari is er onze maandelijkse KLUSDAG op de Hof. Naast dat we snoeihout gaan versnipperen en verbranden nemen we tijd voor een verzorgde lunch met warme soep en gezelligheid. Iedereen is welkom. Om te weten hoeveel lunch er gemaakt moet worden is het fijn om van te voren te weten of je komt.\n\nWe sluiten deze dag af met een DANSAVOND. Voor de klussers is dit gratis toegankelijk. Voor degene die alleen komen dansen vragen we een vrijwillige bijdrage. \n\n\nLaat je meenemen en inspireren je eigen flow te vinden in een muzikale reis van binnen naar buiten en weer terug naar binnen.\nInloop en opwarmen van 19.30 – 20.00 uur. Into the flow van 20.00 – 22.00 uur en nagenieten van 22.00 – 23.00 uur.\nErica en Marcel zijn geïnspireerd door Ecstatic dance\, Biodanza en de Vijf Ritmes.
URL:https://www.hofvanmoederaarde.nl/workshop/klusdag-met-dansavond/
END:VEVENT
END:VCALENDAR