BEGIN:VCALENDAR
VERSION:2.0
PRODID:-//Hof van Moeder Aarde - ECPv6.15.15//NONSGML v1.0//EN
CALSCALE:GREGORIAN
METHOD:PUBLISH
X-WR-CALNAME:Hof van Moeder Aarde
X-ORIGINAL-URL:https://www.hofvanmoederaarde.nl
X-WR-CALDESC:Evenementen voor Hof van Moeder Aarde
REFRESH-INTERVAL;VALUE=DURATION:PT1H
X-Robots-Tag:noindex
X-PUBLISHED-TTL:PT1H
BEGIN:VTIMEZONE
TZID:UTC
BEGIN:STANDARD
TZOFFSETFROM:+0000
TZOFFSETTO:+0000
TZNAME:UTC
DTSTART:20170101T000000
END:STANDARD
END:VTIMEZONE
BEGIN:VEVENT
DTSTART;TZID=UTC:20180717T090000
DTEND;TZID=UTC:20180717T100000
DTSTAMP:20260423T185728
CREATED:20180716T154546Z
LAST-MODIFIED:20180716T160309Z
UID:1300-1531818000-1531821600@www.hofvanmoederaarde.nl
SUMMARY:Ochtend Meditatie
DESCRIPTION:In het moment kiezen we voor de een of andere vorm van meditatie: open focus\, energetisch\, klank of de Hof van Moeder Aarde boom-meditatie. \nIn Open Focus Meditatie richten we onze aandacht op de lege ruimte die door ons lichaam stroomt. Uit wetenschappelijke onderzoek blijkt dat dit de snelste manier is om je hersengolven in een meditatieve alpha-staat te brengen. \nBij Energetisch Meditatie richten we onze aandacht op de energiestroom in ons lichaam. Met de kracht van onze aandacht en intentie kunnen we voelen waar deze stagneert en weer meer in beweging brengen. \nDoor klank te maken terwijl we mediteren\, kunnen we eventuele spanningen in ons lichaam sneller los laten\, waardoor de energie sneller weer in beweging komt. \nMet de Hof van Moeder Aarde boom-meditatie belichamen we onze missie: thuis komen bij jezelf en creëren in verbinding. Laat je verrassen door deze actieve meditatievorm. \nBegeleiding \nDe ochtendmeditatie wordt begeleid door Arjan Verschuur. Hij is trainer Energetische Meditatie en Soul Voice Practitioner in opleiding. De Hof van Moeder Aarde boom-meditatie is een co-creatie van de leden van de bestuurskring van de coöperatie. \nPraktisch \nOm 9:00 uur verzamelen we bij de dome in de moestuin. Het kan zijn dat we vervolgens een andere plek op het terrein kiezen om te mediteren. Bijvoorbeeld workshopruimte Amethist of bij de Witte Paardenkastanje op het Kastanjeveld. De eindtijd ligt ergens tussen half 10 en 10 uur.
URL:https://www.hofvanmoederaarde.nl/workshop/open-focus-meditatie/
LOCATION:De Dome in onze moestuin\, Hof van Moeder Aarde
ATTACH;FMTTYPE=image/jpeg:https://www.hofvanmoederaarde.nl/wp-content/uploads/2018/02/dome-en-goudsbloemen.jpg
ORGANIZER;CN="Hof van Moeder Aarde":MAILTO:info@hofvanmoederaarde.nl
END:VEVENT
BEGIN:VEVENT
DTSTART;TZID=UTC:20180718T090000
DTEND;TZID=UTC:20180718T100000
DTSTAMP:20260423T185728
CREATED:20180716T160852Z
LAST-MODIFIED:20180716T161459Z
UID:1328-1531904400-1531908000@www.hofvanmoederaarde.nl
SUMMARY:Yoga met Joyce
DESCRIPTION:Laat je verrassen door waar Joyce deze morgen zin in en behoefte aan heeft. \nBegeleiding \nDeze yoga-les wordt gegeven door Joyce Hellendoorn. Ze had altijd veel weerstand tegen yoga\, totdat ze er zelf mee begon. Wat ze in Zutphen op yoga-les heeft geleerd\, geeft ze door tijdens haar wekelijkse yoga-lessen in Noordijk.
URL:https://www.hofvanmoederaarde.nl/workshop/yoga-met-joyce/
LOCATION:Workshopruimte Amethist\, Hof van Moeder Aarde
ATTACH;FMTTYPE=image/jpeg:https://www.hofvanmoederaarde.nl/wp-content/uploads/2018/05/joyce-flyer-klein.jpg
ORGANIZER;CN="Hof van Moeder Aarde":MAILTO:info@hofvanmoederaarde.nl
END:VEVENT
BEGIN:VEVENT
DTSTART;TZID=UTC:20180718T180000
DTEND;TZID=UTC:20180718T193000
DTSTAMP:20260423T185728
CREATED:20180716T145816Z
LAST-MODIFIED:20180716T150702Z
UID:1271-1531936800-1531942200@www.hofvanmoederaarde.nl
SUMMARY:2 Norah's Pannenkoekenhuis
DESCRIPTION:Norah Bouwhuis en Norah Verheugd maken zichzelf en alle andere gasten die dat willen blij met vers gebakken pannenkoeken. \nVoor €10 krijg je vier pannenkoeken met beleg: rozijn\, appel\, kaas of poedersuiker en stroop. \nS.v.p. vooraf aanmelden op de intekenlijst in La Cantina.
URL:https://www.hofvanmoederaarde.nl/workshop/2-norahs-pannenkoekenhuis/
LOCATION:La Cantina\, Hof van Moeder Aarde
ATTACH;FMTTYPE=image/jpeg:https://www.hofvanmoederaarde.nl/wp-content/uploads/2018/07/pannenkoeken-1.jpg
ORGANIZER;CN="Hof van Moeder Aarde":MAILTO:info@hofvanmoederaarde.nl
END:VEVENT
BEGIN:VEVENT
DTSTART;TZID=UTC:20180719T090000
DTEND;TZID=UTC:20180719T100000
DTSTAMP:20260423T185728
CREATED:20180716T155328Z
LAST-MODIFIED:20180716T160339Z
UID:1307-1531990800-1531994400@www.hofvanmoederaarde.nl
SUMMARY:Ochtend Meditatie
DESCRIPTION:In het moment kiezen we voor de een of andere vorm van meditatie: open focus\, energetisch\, klank of de Hof van Moeder Aarde boom-meditatie. \nIn Open Focus Meditatie richten we onze aandacht op de lege ruimte die door ons lichaam stroomt. Uit wetenschappelijke onderzoek blijkt dat dit de snelste manier is om je hersengolven in een meditatieve alpha-staat te brengen. \nBij Energetisch Meditatie richten we onze aandacht op de energiestroom in ons lichaam. Met de kracht van onze aandacht en intentie kunnen we voelen waar deze stagneert en weer meer in beweging brengen. \nDoor klank te maken terwijl we mediteren\, kunnen we eventuele spanningen in ons lichaam sneller los laten\, waardoor de energie sneller weer in beweging komt. \nMet de Hof van Moeder Aarde boom-meditatie belichamen we onze missie: thuis komen bij jezelf en creëren in verbinding. Laat je verrassen door deze actieve meditatievorm. \nBegeleiding \nDe ochtendmeditatie wordt begeleid door Arjan Verschuur. Hij is trainer Energetische Meditatie en Soul Voice Practitioner in opleiding. De Hof van Moeder Aarde boom-meditatie is een co-creatie van de leden van de bestuurskring van de coöperatie. \nPraktisch \nOm 9:00 uur verzamelen we bij de dome in de moestuin. Het kan zijn dat we vervolgens een andere plek op het terrein kiezen om te mediteren. Bijvoorbeeld workshopruimte Amethist of bij de Witte Paardenkastanje op het Kastanjeveld. De eindtijd ligt ergens tussen half 10 en 10 uur.
URL:https://www.hofvanmoederaarde.nl/workshop/ochtend-meditatie-2/
LOCATION:De Dome in onze moestuin\, Hof van Moeder Aarde
ATTACH;FMTTYPE=image/jpeg:https://www.hofvanmoederaarde.nl/wp-content/uploads/2018/07/dome-en-goudsbloemen.jpg
ORGANIZER;CN="Hof van Moeder Aarde":MAILTO:info@hofvanmoederaarde.nl
END:VEVENT
BEGIN:VEVENT
DTSTART;TZID=UTC:20180719T090000
DTEND;TZID=UTC:20180719T170000
DTSTAMP:20260423T185728
CREATED:20180715T070740Z
LAST-MODIFIED:20180716T151055Z
UID:1202-1531990800-1532019600@www.hofvanmoederaarde.nl
SUMMARY:Groene klussendag
DESCRIPTION:Handige handen en groene vingers gevraagd\nEr is nogal wat achterstallig (groen)onderhoud op Hof van Moeder Aarde. Onderhoud dat we ecologisch verantwoord willen doen. Door gebruik te maken van duurzame (bouw)materialen. En zonder gebruik te maken van chemische bestrijdingsmiddelen. Bovendien willen we beetje-bij-beetje de diversiteit aan bomen\, struiken en planten in de singels en op het recreatieterrein vergroten. Zodat het een klein paradijs wordt voor bijen\, zangvogels en kleine zoogdieren. \nIedere week op donderdag en elke tweede zaterdag in de maand\nWe kunnen wel wat extra handen gebruiken om deze groene klussen te klaren. Dus: heb jij handige handen of groene vingers of wil je die krijgen? Dan ben je van harte welkom om ons als vrijwilliger te komen helpen. Dat kan iedere week op donderdag\, elke tweede zaterdag van de maand en in overleg op andere dagen. \nBalans tussen zijn\, doen en genieten\nOm de balans tussen zijn en doen te bewaren en van beide te kunnen genieten\, werken we op Hof van Moeder Aarde in een vast dagritme. We beginnen om 9.00 uur\, werken in blokken van 1\,5 uur\, pauzeren 2 x een half uur (voor koffie en thee) en 1 x een uur (voor lunch) en ronden het werk om 17.00 uur af. Voor koffie\, thee en lunch wordt gezorgd. \nKan en wil jij als vrijwilliger meewerken? Meld je dan aan bij Joke: joke@hofvanmoederaarde.nl
URL:https://www.hofvanmoederaarde.nl/workshop/groene-klussendag-3/
LOCATION:La Cantina\, Hof van Moeder Aarde
ATTACH;FMTTYPE=image/jpeg:https://www.hofvanmoederaarde.nl/wp-content/uploads/2018/02/werken-aan-de-schutting-tussen-jade-en-parkeerplaats.jpg
ORGANIZER;CN="Joke Houwers":MAILTO:joke@hofvanmoederaarde.nl
END:VEVENT
BEGIN:VEVENT
DTSTART;TZID=UTC:20180720T090000
DTEND;TZID=UTC:20180720T100000
DTSTAMP:20260423T185728
CREATED:20180716T155523Z
LAST-MODIFIED:20180716T160403Z
UID:1311-1532077200-1532080800@www.hofvanmoederaarde.nl
SUMMARY:Ochtend Meditatie
DESCRIPTION:In het moment kiezen we voor de een of andere vorm van meditatie: open focus\, energetisch\, klank of de Hof van Moeder Aarde boom-meditatie. \nIn Open Focus Meditatie richten we onze aandacht op de lege ruimte die door ons lichaam stroomt. Uit wetenschappelijke onderzoek blijkt dat dit de snelste manier is om je hersengolven in een meditatieve alpha-staat te brengen. \nBij Energetisch Meditatie richten we onze aandacht op de energiestroom in ons lichaam. Met de kracht van onze aandacht en intentie kunnen we voelen waar deze stagneert en weer meer in beweging brengen. \nDoor klank te maken terwijl we mediteren\, kunnen we eventuele spanningen in ons lichaam sneller los laten\, waardoor de energie sneller weer in beweging komt. \nMet de Hof van Moeder Aarde boom-meditatie belichamen we onze missie: thuis komen bij jezelf en creëren in verbinding. Laat je verrassen door deze actieve meditatievorm. \nBegeleiding \nDe ochtendmeditatie wordt begeleid door Arjan Verschuur. Hij is trainer Energetische Meditatie en Soul Voice Practitioner in opleiding. De Hof van Moeder Aarde boom-meditatie is een co-creatie van de leden van de bestuurskring van de coöperatie. \nPraktisch \nOm 9:00 uur verzamelen we bij de dome in de moestuin. Het kan zijn dat we vervolgens een andere plek op het terrein kiezen om te mediteren. Bijvoorbeeld workshopruimte Amethist of bij de Witte Paardenkastanje op het Kastanjeveld. De eindtijd ligt ergens tussen half 10 en 10 uur.
URL:https://www.hofvanmoederaarde.nl/workshop/ochtend-meditatie-3/
LOCATION:De Dome in onze moestuin\, Hof van Moeder Aarde
ATTACH;FMTTYPE=image/jpeg:https://www.hofvanmoederaarde.nl/wp-content/uploads/2018/07/dome-en-goudsbloemen.jpg
ORGANIZER;CN="Hof van Moeder Aarde":MAILTO:info@hofvanmoederaarde.nl
END:VEVENT
BEGIN:VEVENT
DTSTART;TZID=UTC:20180720T180000
DTEND;TZID=UTC:20180720T190000
DTSTAMP:20260423T185728
CREATED:20180715T073540Z
LAST-MODIFIED:20180716T152225Z
UID:1216-1532109600-1532113200@www.hofvanmoederaarde.nl
SUMMARY:Tafel van overvloed
DESCRIPTION:Samen genieten van een tafel van overvloed\nIn de zomerperiode organiseren we iedere vrijdagavond een potluck maaltijd.  Alle vaste bewoners\, gasten en vrijwilligers en andere belangstellenden die mee willen eten\, nemen hun favoriete gerecht mee. Net iets meer dan ze zelf zouden opeten. Met al deze gerechten creëren we een tafel van overvloed\, waar we met elkaar van genieten. \nIets voor 18:00 uur verzamelen we alle lekkernijen op het terras voor La Cantina of onder de grote Walnotenboom in de speeltuin. Om 18:00 uur openen we het buffet. Na afloop ruimen we samen op en wast iedereen zijn of haar eigen afwas af.
URL:https://www.hofvanmoederaarde.nl/workshop/tafel-van-overvloed/
LOCATION:La Cantina\, Hof van Moeder Aarde
ORGANIZER;CN="Hof van Moeder Aarde":MAILTO:info@hofvanmoederaarde.nl
END:VEVENT
BEGIN:VEVENT
DTSTART;TZID=UTC:20180721T100000
DTEND;TZID=UTC:20180721T173000
DTSTAMP:20260423T185728
CREATED:20180626T122433Z
LAST-MODIFIED:20180716T152713Z
UID:1100-1532167200-1532194200@www.hofvanmoederaarde.nl
SUMMARY:Workshop opstellingen
DESCRIPTION:Bevrijd je zelf van onbewuste verstrikkingen met leden of delen van je systeem\, zodat geld\, kracht en liefde weer overvloedig in jouw leven\, relatie en/of organisatie kan stromen. \nHardnekkige terugkerende negatieve patronen in ons leven (gezondheid\, relaties\, werk en inkomen) kunnen veroorzaakt worden door een onbewuste verstrikking met het lot van een voorouder. Zo’n onbewuste verstrikking kan ontstaan wanneer een belangrijke gebeurtenis of lid uit het familiesysteem  van vader of moeder buitengesloten is. Het gaat dan altijd om gebeurtenissen die traumatisch of taboe waren. \nDe essentie van een opstelling is dat we met liefde zien en horen wat er is. Hierbij kijken en luisteren we in het bijzonder naar dat wat buitengesloten is. Daartoe werken we met representaten van de leden of delen van het systeem van de client. Deze stellen we in de ruimte op. Door het stellen van vragen\, verplaatsen van mensen in de ruimte en het laten uitspreken van rituele zinnen wordt gaandeweg duidelijk wat er nodig is om de liefde weer vrij te laten stromen. Dat komt niet alleen ten goede aan de client\, maar aan zijn of haar hele familiesysteem. \nTijdens de workshop werken we met vragen van de deelnemers. De deelnemers nemen in elkaars opstelling de rol van representant op zich. Je kunt ook alleen als representant aan de workshop deelnemen. De kosten bedragen dan € 30\,25 in plaats van € 96\,80 (inclusief 21% BTW).
URL:https://www.hofvanmoederaarde.nl/workshop/workshop-opstellingen/
LOCATION:Workshopruimte Amethist\, Hof van Moeder Aarde
ATTACH;FMTTYPE=image/jpeg:https://www.hofvanmoederaarde.nl/wp-content/uploads/2018/02/opstelling.jpg
ORGANIZER;CN="Arjan Verschuur":MAILTO:info@arjanverschuur.nl
END:VEVENT
BEGIN:VEVENT
DTSTART;TZID=UTC:20180722T180000
DTEND;TZID=UTC:20180722T193000
DTSTAMP:20260423T185728
CREATED:20180717T153334Z
LAST-MODIFIED:20180717T153334Z
UID:1352-1532282400-1532287800@www.hofvanmoederaarde.nl
SUMMARY:Eetcafe
DESCRIPTION:Laat je verrassen door de kookkunsten en inspiratie van Stefanie Kraanen. Voor € 15 geniet je van een heerlijk biologisch en vegetarisch hoofdgerecht en desert.
URL:https://www.hofvanmoederaarde.nl/workshop/eetcafe/
LOCATION:La Cantina\, Hof van Moeder Aarde
ATTACH;FMTTYPE=image/jpeg:https://www.hofvanmoederaarde.nl/wp-content/uploads/2018/07/eetcafe-eten.jpg
ORGANIZER;CN="Stefanie Kraanen":MAILTO:stefanie@hofvanmoederaarde.nl
END:VEVENT
BEGIN:VEVENT
DTSTART;TZID=UTC:20180723T090000
DTEND;TZID=UTC:20180723T100000
DTSTAMP:20260423T185728
CREATED:20180716T155650Z
LAST-MODIFIED:20180716T160438Z
UID:1315-1532336400-1532340000@www.hofvanmoederaarde.nl
SUMMARY:Ochtend Meditatie
DESCRIPTION:In het moment kiezen we voor de een of andere vorm van meditatie: open focus\, energetisch\, klank of de Hof van Moeder Aarde boom-meditatie. \nIn Open Focus Meditatie richten we onze aandacht op de lege ruimte die door ons lichaam stroomt. Uit wetenschappelijke onderzoek blijkt dat dit de snelste manier is om je hersengolven in een meditatieve alpha-staat te brengen. \nBij Energetisch Meditatie richten we onze aandacht op de energiestroom in ons lichaam. Met de kracht van onze aandacht en intentie kunnen we voelen waar deze stagneert en weer meer in beweging brengen. \nDoor klank te maken terwijl we mediteren\, kunnen we eventuele spanningen in ons lichaam sneller los laten\, waardoor de energie sneller weer in beweging komt. \nMet de Hof van Moeder Aarde boom-meditatie belichamen we onze missie: thuis komen bij jezelf en creëren in verbinding. Laat je verrassen door deze actieve meditatievorm. \nBegeleiding \nDe ochtendmeditatie wordt begeleid door Arjan Verschuur. Hij is trainer Energetische Meditatie en Soul Voice Practitioner in opleiding. De Hof van Moeder Aarde boom-meditatie is een co-creatie van de leden van de bestuurskring van de coöperatie. \nPraktisch \nOm 9:00 uur verzamelen we bij de dome in de moestuin. Het kan zijn dat we vervolgens een andere plek op het terrein kiezen om te mediteren. Bijvoorbeeld workshopruimte Amethist of bij de Witte Paardenkastanje op het Kastanjeveld. De eindtijd ligt ergens tussen half 10 en 10 uur.
URL:https://www.hofvanmoederaarde.nl/workshop/ochtend-meditatie-4/
LOCATION:De Dome in onze moestuin\, Hof van Moeder Aarde
ATTACH;FMTTYPE=image/jpeg:https://www.hofvanmoederaarde.nl/wp-content/uploads/2018/07/dome-en-goudsbloemen.jpg
ORGANIZER;CN="Hof van Moeder Aarde":MAILTO:info@hofvanmoederaarde.nl
END:VEVENT
BEGIN:VEVENT
DTSTART;TZID=UTC:20180724T090000
DTEND;TZID=UTC:20180724T100000
DTSTAMP:20260423T185728
CREATED:20180716T155225Z
LAST-MODIFIED:20180716T160501Z
UID:1305-1532422800-1532426400@www.hofvanmoederaarde.nl
SUMMARY:Ochtend Meditatie
DESCRIPTION:In het moment kiezen we voor de een of andere vorm van meditatie: open focus\, energetisch\, klank of de Hof van Moeder Aarde boom-meditatie. \nIn Open Focus Meditatie richten we onze aandacht op de lege ruimte die door ons lichaam stroomt. Uit wetenschappelijke onderzoek blijkt dat dit de snelste manier is om je hersengolven in een meditatieve alpha-staat te brengen. \nBij Energetisch Meditatie richten we onze aandacht op de energiestroom in ons lichaam. Met de kracht van onze aandacht en intentie kunnen we voelen waar deze stagneert en weer meer in beweging brengen. \nDoor klank te maken terwijl we mediteren\, kunnen we eventuele spanningen in ons lichaam sneller los laten\, waardoor de energie sneller weer in beweging komt. \nMet de Hof van Moeder Aarde boom-meditatie belichamen we onze missie: thuis komen bij jezelf en creëren in verbinding. Laat je verrassen door deze actieve meditatievorm. \nBegeleiding \nDe ochtendmeditatie wordt begeleid door Arjan Verschuur. Hij is trainer Energetische Meditatie en Soul Voice Practitioner in opleiding. De Hof van Moeder Aarde boom-meditatie is een co-creatie van de leden van de bestuurskring van de coöperatie. \nPraktisch \nOm 9:00 uur verzamelen we bij de dome in de moestuin. Het kan zijn dat we vervolgens een andere plek op het terrein kiezen om te mediteren. Bijvoorbeeld workshopruimte Amethist of bij de Witte Paardenkastanje op het Kastanjeveld. De eindtijd ligt ergens tussen half 10 en 10 uur.
URL:https://www.hofvanmoederaarde.nl/workshop/ochtend-meditatie/
LOCATION:De Dome in onze moestuin\, Hof van Moeder Aarde
ATTACH;FMTTYPE=image/jpeg:https://www.hofvanmoederaarde.nl/wp-content/uploads/2018/07/dome-en-goudsbloemen.jpg
ORGANIZER;CN="Hof van Moeder Aarde":MAILTO:info@hofvanmoederaarde.nl
END:VEVENT
BEGIN:VEVENT
DTSTART;TZID=UTC:20180725T090000
DTEND;TZID=UTC:20180725T220000
DTSTAMP:20260423T185728
CREATED:20180716T161015Z
LAST-MODIFIED:20180716T161414Z
UID:1330-1532509200-1532556000@www.hofvanmoederaarde.nl
SUMMARY:Yoga met Joyce
DESCRIPTION:Laat je verrassen door waar Joyce deze morgen zin in en behoefte aan heeft. \nBegeleiding \nDeze yoga-les wordt gegeven door Joyce Hellendoorn. Ze had altijd veel weerstand tegen yoga\, totdat ze er zelf mee begon. Wat ze in Zutphen op yoga-les heeft geleerd\, geeft ze door tijdens haar wekelijkse yoga-lessen in Noordijk.
URL:https://www.hofvanmoederaarde.nl/workshop/yoga-met-joyce-2/
LOCATION:Workshopruimte Amethist\, Hof van Moeder Aarde
ATTACH;FMTTYPE=image/jpeg:https://www.hofvanmoederaarde.nl/wp-content/uploads/2018/05/joyce-flyer-klein.jpg
ORGANIZER;CN="Hof van Moeder Aarde":MAILTO:info@hofvanmoederaarde.nl
END:VEVENT
BEGIN:VEVENT
DTSTART;TZID=UTC:20180726T090000
DTEND;TZID=UTC:20180726T100000
DTSTAMP:20260423T185728
CREATED:20180716T155905Z
LAST-MODIFIED:20180716T160543Z
UID:1317-1532595600-1532599200@www.hofvanmoederaarde.nl
SUMMARY:Ochtend Meditatie
DESCRIPTION:In het moment kiezen we voor de een of andere vorm van meditatie: open focus\, energetisch\, klank of de Hof van Moeder Aarde boom-meditatie. \nIn Open Focus Meditatie richten we onze aandacht op de lege ruimte die door ons lichaam stroomt. Uit wetenschappelijke onderzoek blijkt dat dit de snelste manier is om je hersengolven in een meditatieve alpha-staat te brengen. \nBij Energetisch Meditatie richten we onze aandacht op de energiestroom in ons lichaam. Met de kracht van onze aandacht en intentie kunnen we voelen waar deze stagneert en weer meer in beweging brengen. \nDoor klank te maken terwijl we mediteren\, kunnen we eventuele spanningen in ons lichaam sneller los laten\, waardoor de energie sneller weer in beweging komt. \nMet de Hof van Moeder Aarde boom-meditatie belichamen we onze missie: thuis komen bij jezelf en creëren in verbinding. Laat je verrassen door deze actieve meditatievorm. \nBegeleiding \nDe ochtendmeditatie wordt begeleid door Arjan Verschuur. Hij is trainer Energetische Meditatie en Soul Voice Practitioner in opleiding. De Hof van Moeder Aarde boom-meditatie is een co-creatie van de leden van de bestuurskring van de coöperatie. \nPraktisch \nOm 9:00 uur verzamelen we bij de dome in de moestuin. Het kan zijn dat we vervolgens een andere plek op het terrein kiezen om te mediteren. Bijvoorbeeld workshopruimte Amethist of bij de Witte Paardenkastanje op het Kastanjeveld. De eindtijd ligt ergens tussen half 10 en 10 uur.
URL:https://www.hofvanmoederaarde.nl/workshop/ochtend-meditatie-5/
LOCATION:De Dome in onze moestuin\, Hof van Moeder Aarde
ATTACH;FMTTYPE=image/jpeg:https://www.hofvanmoederaarde.nl/wp-content/uploads/2018/07/dome-en-goudsbloemen.jpg
ORGANIZER;CN="Hof van Moeder Aarde":MAILTO:info@hofvanmoederaarde.nl
END:VEVENT
BEGIN:VEVENT
DTSTART;TZID=UTC:20180726T090000
DTEND;TZID=UTC:20180726T170000
DTSTAMP:20260423T185728
CREATED:20180715T071514Z
LAST-MODIFIED:20180716T151145Z
UID:1204-1532595600-1532624400@www.hofvanmoederaarde.nl
SUMMARY:Groene Klussendag
DESCRIPTION:Handige handen en groene vingers gevraagd\nEr is nogal wat achterstallig (groen)onderhoud op Hof van Moeder Aarde. Onderhoud dat we ecologisch verantwoord willen doen. Door gebruik te maken van duurzame (bouw)materialen. En zonder gebruik te maken van chemische bestrijdingsmiddelen. Bovendien willen we beetje-bij-beetje de diversiteit aan bomen\, struiken en planten in de singels en op het recreatieterrein vergroten. Zodat het een klein paradijs wordt voor bijen\, zangvogels en kleine zoogdieren. \nIedere week op donderdag en elke tweede zaterdag in de maand\nWe kunnen wel wat extra handen gebruiken om deze groene klussen te klaren. Dus: heb jij handige handen of groene vingers of wil je die krijgen? Dan ben je van harte welkom om ons als vrijwilliger te komen helpen. Dat kan iedere week op donderdag\, elke tweede zaterdag van de maand en in overleg op andere dagen. \nBalans tussen zijn\, doen en genieten\nOm de balans tussen zijn en doen te bewaren en van beide te kunnen genieten\, werken we op Hof van Moeder Aarde in een vast dagritme. We beginnen om 9.00 uur\, werken in blokken van 1\,5 uur\, pauzeren 2 x een half uur (voor koffie en thee) en 1 x een uur (voor lunch) en ronden het werk om 17.00 uur af. Voor koffie\, thee en lunch wordt gezorgd. \nKan en wil jij als vrijwilliger meewerken? Meld je dan aan bij Joke: joke@hofvanmoederaarde.nl
URL:https://www.hofvanmoederaarde.nl/workshop/groene-klussendag-4/
ATTACH;FMTTYPE=image/jpeg:https://www.hofvanmoederaarde.nl/wp-content/uploads/2018/02/werken-aan-de-schutting-tussen-jade-en-parkeerplaats.jpg
ORGANIZER;CN="Joke Houwers":MAILTO:joke@hofvanmoederaarde.nl
END:VEVENT
BEGIN:VEVENT
DTSTART;TZID=UTC:20180727T090000
DTEND;TZID=UTC:20180727T100000
DTSTAMP:20260423T185728
CREATED:20180716T155959Z
LAST-MODIFIED:20180716T160610Z
UID:1319-1532682000-1532685600@www.hofvanmoederaarde.nl
SUMMARY:Ochtend Meditatie
DESCRIPTION:In het moment kiezen we voor de een of andere vorm van meditatie: open focus\, energetisch\, klank of de Hof van Moeder Aarde boom-meditatie. \nIn Open Focus Meditatie richten we onze aandacht op de lege ruimte die door ons lichaam stroomt. Uit wetenschappelijke onderzoek blijkt dat dit de snelste manier is om je hersengolven in een meditatieve alpha-staat te brengen. \nBij Energetisch Meditatie richten we onze aandacht op de energiestroom in ons lichaam. Met de kracht van onze aandacht en intentie kunnen we voelen waar deze stagneert en weer meer in beweging brengen. \nDoor klank te maken terwijl we mediteren\, kunnen we eventuele spanningen in ons lichaam sneller los laten\, waardoor de energie sneller weer in beweging komt. \nMet de Hof van Moeder Aarde boom-meditatie belichamen we onze missie: thuis komen bij jezelf en creëren in verbinding. Laat je verrassen door deze actieve meditatievorm. \nBegeleiding \nDe ochtendmeditatie wordt begeleid door Arjan Verschuur. Hij is trainer Energetische Meditatie en Soul Voice Practitioner in opleiding. De Hof van Moeder Aarde boom-meditatie is een co-creatie van de leden van de bestuurskring van de coöperatie. \nPraktisch \nOm 9:00 uur verzamelen we bij de dome in de moestuin. Het kan zijn dat we vervolgens een andere plek op het terrein kiezen om te mediteren. Bijvoorbeeld workshopruimte Amethist of bij de Witte Paardenkastanje op het Kastanjeveld. De eindtijd ligt ergens tussen half 10 en 10 uur.
URL:https://www.hofvanmoederaarde.nl/workshop/ochtend-meditatie-6/
LOCATION:De Dome in onze moestuin\, Hof van Moeder Aarde
ATTACH;FMTTYPE=image/jpeg:https://www.hofvanmoederaarde.nl/wp-content/uploads/2018/07/dome-en-goudsbloemen.jpg
ORGANIZER;CN="Hof van Moeder Aarde":MAILTO:info@hofvanmoederaarde.nl
END:VEVENT
BEGIN:VEVENT
DTSTART;TZID=UTC:20180727T180000
DTEND;TZID=UTC:20180727T190000
DTSTAMP:20260423T185728
CREATED:20180715T073656Z
LAST-MODIFIED:20180716T151530Z
UID:1218-1532714400-1532718000@www.hofvanmoederaarde.nl
SUMMARY:Tafel van overvloed
DESCRIPTION:Samen genieten van een tafel van overvloed\nIn de zomerperiode organiseren we iedere vrijdagavond een potluck maaltijd.  Alle vaste bewoners\, gasten en vrijwilligers en andere belangstellenden die mee willen eten\, nemen hun favoriete gerecht mee. Net iets meer dan ze zelf zouden opeten. Met al deze gerechten creëren we een tafel van overvloed\, waar we met elkaar van genieten. \nIets voor 18:00 uur verzamelen we alle lekkernijen op het terras voor La Cantina of onder de grote Walnotenboom in de speeltuin. Om 18:00 uur openen we het buffet. Na afloop ruimen we samen op en wast iedereen zijn of haar eigen afwas af.
URL:https://www.hofvanmoederaarde.nl/workshop/tafel-van-overvloed-2/
LOCATION:La Cantina\, Hof van Moeder Aarde
ORGANIZER;CN="Hof van Moeder Aarde":MAILTO:info@hofvanmoederaarde.nl
END:VEVENT
BEGIN:VEVENT
DTSTART;TZID=UTC:20180729T180000
DTEND;TZID=UTC:20180729T200000
DTSTAMP:20260423T185728
CREATED:20180728T120024Z
LAST-MODIFIED:20180728T120024Z
UID:1364-1532887200-1532894400@www.hofvanmoederaarde.nl
SUMMARY:Eetcafé Kookkunst
DESCRIPTION:De hele zomer lang kun je elke zondag genieten van de kookkunsten van één van onze koks\, Marre\, Stefanie of Luna. Biologische siezoensproducten vol smaak en zoveel mogelijk uit onze eigen Hoftuin. Afhankelijk van de kok wordt er vegetarisch of geheel plantaardig gekookt. Hoofdgerecht en toetje voor vijftien euro pp. Komt dat proeven! Aanmelden kan via stefaniekraanen@hofvanmoederaarde.nl
URL:https://www.hofvanmoederaarde.nl/workshop/eetcafe-kookkunst/
LOCATION:La Cantina\, Hof van Moeder Aarde
ATTACH;FMTTYPE=image/jpeg:https://www.hofvanmoederaarde.nl/wp-content/uploads/2018/07/LTSX6906-e1532779171605.jpg
ORGANIZER;CN="Hof van Moeder Aarde":MAILTO:info@hofvanmoederaarde.nl
END:VEVENT
END:VCALENDAR