BEGIN:VCALENDAR
VERSION:2.0
PRODID:-//Hof van Moeder Aarde - ECPv6.15.15//NONSGML v1.0//EN
CALSCALE:GREGORIAN
METHOD:PUBLISH
X-WR-CALNAME:Hof van Moeder Aarde
X-ORIGINAL-URL:https://www.hofvanmoederaarde.nl
X-WR-CALDESC:Evenementen voor Hof van Moeder Aarde
REFRESH-INTERVAL;VALUE=DURATION:PT1H
X-Robots-Tag:noindex
X-PUBLISHED-TTL:PT1H
BEGIN:VTIMEZONE
TZID:UTC
BEGIN:STANDARD
TZOFFSETFROM:+0000
TZOFFSETTO:+0000
TZNAME:UTC
DTSTART:20170101T000000
END:STANDARD
END:VTIMEZONE
BEGIN:VEVENT
DTSTART;TZID=UTC:20180609T090000
DTEND;TZID=UTC:20180609T170000
DTSTAMP:20260423T202839
CREATED:20180223T162902Z
LAST-MODIFIED:20180602T115146Z
UID:264-1528534800-1528563600@www.hofvanmoederaarde.nl
SUMMARY:Groene Klussendag
DESCRIPTION:Samen maken we het nog mooier\nEr is nogal wat achterstallig (groen)onderhoud op Hof van Moeder Aarde. Onderhoud dat we ecologisch verantwoord willen doen. Door gebruik te maken van duurzame (bouw)materialen. En zonder gebruik te maken van chemische bestrijdingsmiddelen. Bovendien willen we beetje-bij-beetje de diversiteit aan bomen\, struiken en planten in de singels en op het recreatieterrein vergroten. Zodat het een klein paradijs wordt voor bijen\, zangvogels en kleine zoogdieren. \nGroene vingers en handige handen gevraagd!\nWe kunnen wel wat extra handen gebruiken om deze groene klussen te klaren. Dus: heb jij handige handen of groene vingers of wil je die krijgen? Dan ben je van harte welkom om ons als vrijwilliger te komen helpen. \nIedere tweede zaterdag van de maand\nIedere tweede zaterdag van de maand werken de vaste bewoners van Hof van Moeder Aarde met een wisselende groep vrijwilligers in het groen op het terrein. \nOm de balans tussen zijn en doen te bewaren en van beide te kunnen genieten\, werken we op Hof van Moeder Aarde in een vast dagritme. We beginnen om 9.00 uur\, werken in blokken van 1\,5 uur\, pauzeren 2 x een half uur (voor koffie en thee) en 1 x een uur (voor lunch) en ronden het werk om 17.00 uur af. Voor koffie\, thee en lunch wordt gezorgd. \nCreëren in verbinding\nMeewerken tijdens een groene klussendag is de ideale gelegenheid om: \n\n(h)eerlijk buiten te werken\,\nnieuwe mensen te leren kennen\,\n(nader) kennis te maken met Hof van Moeder Aarde\,\neen bijdrage te leveren aan het mooier maken van de gebouwen en het terrein op Hof van Moeder Aarde.
URL:https://www.hofvanmoederaarde.nl/workshop/groene-klussendag/
LOCATION:La Cantina\, Hof van Moeder Aarde
ATTACH;FMTTYPE=image/jpeg:https://www.hofvanmoederaarde.nl/wp-content/uploads/2018/02/dome-wordt-in-de-moestuin-geplaatst.jpg
ORGANIZER;CN="Joke Houwers":MAILTO:joke@hofvanmoederaarde.nl
END:VEVENT
BEGIN:VEVENT
DTSTART;TZID=UTC:20180623T100000
DTEND;TZID=UTC:20180623T170000
DTSTAMP:20260423T202839
CREATED:20180223T113629Z
LAST-MODIFIED:20180525T071727Z
UID:215-1529748000-1529773200@www.hofvanmoederaarde.nl
SUMMARY:Workshop familieopstellingen
DESCRIPTION:Wil je vrij zijn om als mens gewoon jezelf te zijn en voluit te genieten van het leven? Maar zijn er hardnekkige problemen of terugkerende patronen die je daarbij belemmeren? Bijvoorbeeld op het gebied van je gezondheid\, relaties\, werk of geld? \nMisschien kan een famillie- of systeemopstelling dan helpen om de gewenste transformatie op gang te brengen. \nWe hebben allemaal de potentie om gewoon ons zelf te zijn en voluit te genieten van het leven. In het dagelijks leven kunnen we echter belemmerd worden. Niet alleen door traumatische ervaringen die we zelf in ons leven hebben opgedaan\, maar ook door onbewuste verstrikkingen met het levenslot  van familieleden. Zo’n onbewuste verstrikking kan ontstaan wanneer een ingrijpende gebeurtenis of een lid van de familie van herkomst buitengesloten is. Het gaat dan altijd om gebeurtenissen die traumatisch of taboe waren. Een onbewuste verstrikking kan op alle levensgebieden tot uiting komen: in gezondheidsklachten\, relatieproblemen en uitdagingen op het gebied van werk en inkomen. Een opstelling kan dan ook op al deze gebieden een positief effect hebben. \nDe essentie van een opstelling is dat wat buitengesloten werd alsnog gezien\, gehoord en ingesloten wordt. Daartoe werken we in een opstelling met representanten voor leden of delen van het systeem van de client. Tijdens de workshop doen we meerdere opstellingen\, waarbij cliënten in elkaars opstellingen de rol van representant op zich nemen. Daarnaast kun je ook alleen als representant aan de workshop deelnemen. \nKlik hier om meer te lezen.
URL:https://www.hofvanmoederaarde.nl/workshop/workshop-familieopstellingen/
LOCATION:Workshopruimte Amethist\, Hof van Moeder Aarde
ATTACH;FMTTYPE=image/jpeg:https://www.hofvanmoederaarde.nl/wp-content/uploads/2018/02/opstelling.jpg
ORGANIZER;CN="Arjan Verschuur":MAILTO:info@arjanverschuur.nl
END:VEVENT
BEGIN:VEVENT
DTSTART;TZID=UTC:20180630T110000
DTEND;TZID=UTC:20180630T230000
DTSTAMP:20260423T202839
CREATED:20180527T083946Z
LAST-MODIFIED:20180628T125928Z
UID:1045-1530356400-1530399600@www.hofvanmoederaarde.nl
SUMMARY:Hof van Moeder Aarde Festival
DESCRIPTION:Het eerste Hof van Moeder Aarde Festival is een bij-eenkomst van en voor bewoners\, gasten\, vrijwilligers\, deelnemers aan activiteiten\, mensen uit de buurt\, familie en vrienden. Deze dag creëren we samen\, in verbinding met elkaar en met de flora en fauna op de hof. \nGeniet van al het goede dat Hof van Moeder Aarde te bieden heeft\nMaak kennis met onze coaches en workshopgevers. Mediteer mee in onze dome. Smul van de seizoensgroenten uit onze moestuin. Geniet van live optredens met akoestische muziek. Speel mee in onze speeltuin en/of in ons zwembad. Bak broodjes bij een kampvuur. En laat je informeren en inspireren om een bij-drage te leveren aan de toekomst van onze bijen. \nDraag bij aan de toekomst van onze bijen\nDe netto opbrengst van deze dag investeren we in de aanschaf en aanplant van biologische dracht-planten voor bijen. Zodat er op niet al te lange termijn genoeg voedsel is voor de bijenvolken die we graag op Hof van Moeder Aarde willen ontvangen. Niet om honing te winnen\, maar om onze vruchtdragende bomen\, struiken en planten te bestuiven. Tijdens deze festival-dag zelf\, kun je ook al meehelpen om een blije bijen bloemenweide aan te leggen en een bijenhotel te maken. \nGevarieerd programma (onder voorbehoud)\nOp het programma van het eerste Hof van Moeder Aarde festival staan o.a.: \n8.30-9.00 uur Ochtendmeditatie ter afstemming \n11.00 uur Start creatieve activiteiten voor kinderen en volwassenen \n\nbloemen vilten o.l.v. Punam Grevengoed\nbijen maken van elzenpropjes o.l.v. Els Toussaint\nbijenhotels maken o.l.v. Wim Mourits\nblije bijen bloemenbedden aanleggen\narmbandjes van brandnetelvezels maken o.l.v. Mariette Dantuma\narmbandjes knopen o.l.v. Norah Bouwhuis\nbroodjes bakken bij het kampvuur\n\n12.00 – 13.00 uur: Yoga en zoem meditatie o.l.v. Georgette Nirmala \n12.00 – 13.00 uur: Lezing over essentiële oliën van doTERRA door Joyce Hellendoorn \n13.00 – 14.00 uur: Lunch-pauze\, met lekkere hapjes van Kookkunst. \n14.00 – 15.00 uur  Dolfijnreis info en filmpje door Anna Emich en Godfried Kleinsmann \n14.00 – 15.00 uur: Soul Voice  soundhealing voor de bijen o.l.v. Joyce Hellendoorn \n15.00 – 16.00 uur: Paardencoaching o.l.v. Stefanie Kraanen \n15.00 – 16.00 uur: Interactieve lezing Bloeiende Gemeenschappen vormen o.l.v. Joke Houwers en Arjan Verschuur \n15.00 – 17.00 uur: Bijenfilm \n16.00 – 17.00 uur: Optreden Gery Groot Zwaaftink \n17.00 – 18.00 uur: Opstelling op de relatie tussen mensen\, bijen en planten o.l.v. Arjan Verschuur \n18.00 – 19.00 uur: Diner-pauze\, met lekkere hapjes van Kookkunst en Frieten van Thijs \n19.00 – 20.00 uur: Mantra-concert door Marcel Verheugd en Erica Nap \n20.00 – 21.00 uur: Rustgevend klankconcert door Joyce Hellendoorn en Georgette Nirmala \n19.00 – 21.00 uur: Bijenfilm \n21.00 – 22.30 uur: Dansavond o.l.v. DJ Schildpad \nEntree\nPer volwassene betaal je € 10 entree voor het Hof van Moeder Aarde Festival. Voor kinderen tot 18 jaar betaal je € 5. Voor dit bedrag kun je van de optredens genieten en meedoen aan workshops en diverse kinder-activiteiten. Eten\, drinken en eventuele drachtplanten voor bijen die je tijdens het festival koopt\, zijn niet bij de entree-prijs inbegrepen. \nBoek een overnachting op Hof van Moeder Aarde en ontvang 1 gratis entreebewijs voor het Hof van Moeder Aarde Festival\nIn de nacht voorafgaand en/of aansluitend op het Hof van Moeder Aarde festival\, kun je natuurlijk op onze camping overnachten. Neem je eigen hangmat\, tent\, camper of caravan mee. Of boek vooraf een van onze yurts. Als je in het weekend van 30 juni een overnachting bij ons boekt\, ontvang je 1 gratis entreebewijs voor het Hof van Moeder Aarde festival gratis. \nVrienden van Hof van Moeder Aarde ontvangen een gratis entreebewijs en een tegoedbon van € 10 voor eten en drinken op het festival. Wil je ook vriend van Hof van Moeder Aarde worden? Maak dan minimaal € 50 over op bankrekeningnummer NL55 TRIO 0391 1939 37 t.n.v. Stichting Hof van Moeder Aarde o.v.v. vriend voor een jaar. Wanneer je eenmalig € 500 of meer aan de stichting schenkt\, wordt je meteen vriend voor het leven. \nS.v.p. vooraf aanmelden!\nIn verband met de inkoop van eten en drinken weten we graag hoeveel mensen we ongeveer op het festival kunnen verwachten. Meld je daarom vooraf s.v.p. aan via festival@hofvanmoederaarde.nl. En natuurlijk zijn last-minute beslissers ook van harte welkom!
URL:https://www.hofvanmoederaarde.nl/workshop/hof-van-moeder-aarde-festival/
ATTACH;FMTTYPE=image/png:https://www.hofvanmoederaarde.nl/wp-content/uploads/2018/05/HvMA-Festival-2018.png
ORGANIZER;CN="Hof van Moeder Aarde":MAILTO:info@hofvanmoederaarde.nl
END:VEVENT
END:VCALENDAR